BEGIN:VCALENDAR
VERSION:2.0
PRODID:-//www.insightmcc.org//NONSGML kigkonsult.se iCalcreator 2.30.10//
CALSCALE:GREGORIAN
METHOD:PUBLISH
UID:ed25a9c6-156f-40de-9e93-45634f160d31
X-WR-CALDESC:A discussion on changes that occur with age\, warning signs of
  a memory problem\, and what to do if someone you love is experiencing sym
 ptoms.\n\nThis event is presented by the Insight Memory Care Center Educat
 ion team at the Kingstowne Library.\n\n&nbsp\;\n<strong><a href='https://i
 nsightmemory.app.neoncrm.com/eventReg.jsp?event=2213&' target='_blank' cla
 ss='button' rel='noreferrer noopener'>Sign Me Up!</a></strong>
X-WR-RELCALID:d7f2e1707d468262079b585dccd2775a
X-WR-TIMEZONE:America/New_York
BEGIN:VTIMEZONE
TZID:America/New_York
BEGIN:STANDARD
TZNAME:EST
DTSTART:20241103T020000
TZOFFSETFROM:-0400
TZOFFSETTO:-0500
RDATE:20251102T020000
END:STANDARD
BEGIN:DAYLIGHT
TZNAME:EDT
DTSTART:20240310T020000
TZOFFSETFROM:-0500
TZOFFSETTO:-0400
RDATE:20250309T020000
RDATE:20260308T020000
END:DAYLIGHT
END:VTIMEZONE
BEGIN:VEVENT
UID:f63a9a94-0687-4d63-be14-d2a1d628462c
DTSTAMP:20260422T003854Z
DESCRIPTION:A discussion on changes that occur with age\, warning signs of 
 a memory problem\, and what to do if someone you love is experiencing symp
 toms.\n\nThis event is presented by the Insight Memory Care Center Educati
 on team at the Kingstowne Library.\n\n&nbsp\;\n<strong><a href='https://in
 sightmemory.app.neoncrm.com/eventReg.jsp?event=2213&' target='_blank' clas
 s='button' rel='noreferrer noopener'>Sign Me Up!</a></strong>
DTSTART;TZID=America/New_York:20250224T120000
DTEND;TZID=America/New_York:20250224T130000
LOCATION:Kingstowne Library\, 6500 Landsdowne Centre Dr\, Alexandria\, VA 2
 2315 US
SUMMARY:Normal Aging vs. Dementia
END:VEVENT
END:VCALENDAR
