BEGIN:VCALENDAR
VERSION:2.0
PRODID:-//www.insightmcc.org//NONSGML kigkonsult.se iCalcreator 2.30.10//
CALSCALE:GREGORIAN
METHOD:PUBLISH
UID:190e166c-9ecf-4192-aeb7-0fd9c9e2d362
X-WR-CALDESC:Meet Me: Community Outings are free\, and give families living
  with mild cognitive impairment (MCI) or early stage memory loss an opport
 unity to connect and stay engaged in the community\, in a safe and support
 ive way. Outings are designed for both the diagnosed individual and a care
  partner or friend to participate together\, and meet new friends in the p
 rocess!\n\nJoin us for an instructor led paint class at Muse Paintbar!\n\n
 &nbsp\;\n<strong><a href='https://insightmemory.app.neoncrm.com/eventReg.j
 sp?event=1983&' target='_blank' class='button' rel='noreferrer noopener'>S
 ign Me Up!</a></strong>\n\n
X-WR-RELCALID:64a9f4ea9dbc4c322d1fc84a9700470d
X-WR-TIMEZONE:America/New_York
BEGIN:VTIMEZONE
TZID:America/New_York
BEGIN:STANDARD
TZNAME:EST
DTSTART:20241103T020000
TZOFFSETFROM:-0400
TZOFFSETTO:-0500
RDATE:20251102T020000
END:STANDARD
BEGIN:DAYLIGHT
TZNAME:EDT
DTSTART:20240310T020000
TZOFFSETFROM:-0500
TZOFFSETTO:-0400
RDATE:20250309T020000
RDATE:20260308T020000
END:DAYLIGHT
END:VTIMEZONE
BEGIN:VEVENT
UID:d0f73fb2-bc63-4592-a746-3c57e54fe06f
DTSTAMP:20260422T004102Z
DESCRIPTION:Meet Me: Community Outings are free\, and give families living 
 with mild cognitive impairment (MCI) or early stage memory loss an opportu
 nity to connect and stay engaged in the community\, in a safe and supporti
 ve way. Outings are designed for both the diagnosed individual and a care 
 partner or friend to participate together\, and meet new friends in the pr
 ocess!\n\nJoin us for an instructor led paint class at Muse Paintbar!\n\n&
 nbsp\;\n<strong><a href='https://insightmemory.app.neoncrm.com/eventReg.js
 p?event=1983&' target='_blank' class='button' rel='noreferrer noopener'>Si
 gn Me Up!</a></strong>\n\n
DTSTART;TZID=America/New_York:20250226T143000
DTEND;TZID=America/New_York:20250226T170000
LOCATION:Muse Paintbar - Mosaic District\, 2920 District Ave STE 100\, Fair
 fax\, VA 22031 US
SUMMARY:Meet Me: At Muse Paint Bar
END:VEVENT
END:VCALENDAR
