BEGIN:VCALENDAR
VERSION:2.0
PRODID:-//www.insightmcc.org//NONSGML kigkonsult.se iCalcreator 2.30.10//
CALSCALE:GREGORIAN
METHOD:PUBLISH
UID:a2eb564e-bb4e-4360-ab56-007e5843f648
X-WR-CALDESC:Research indicates that Black Americans are significantly more
  likely to develop Alzheimer's disease compared to other racial groups in 
 the United States\, with studies showing they are roughly 1.5 to 2 times m
 ore likely to be diagnosed with the disease than white Americans. Let’s le
 arn why together. \n\n<b>Zoom link provided upon registration.</b>\n\n&nbs
 p\;<strong><a href='https://insightmemory.app.neoncrm.com/eventReg.jsp?eve
 nt=2193&' target='_blank' class='button' rel='noreferrer noopener'>Sign Me
  Up!</a></strong>\n\n\n&nbsp\;\n<b>Presenter</b>\nDawn Jefferson\, Educati
 on and Support Coordinator\, Insight Memory Care Center\n\n\n
X-WR-RELCALID:0dd18df33fee3c0a96525caa7705339a
X-WR-TIMEZONE:America/New_York
BEGIN:VTIMEZONE
TZID:America/New_York
BEGIN:STANDARD
TZNAME:EST
DTSTART:20241103T020000
TZOFFSETFROM:-0400
TZOFFSETTO:-0500
RDATE:20251102T020000
END:STANDARD
BEGIN:DAYLIGHT
TZNAME:EDT
DTSTART:20240310T020000
TZOFFSETFROM:-0500
TZOFFSETTO:-0400
RDATE:20250309T020000
RDATE:20260308T020000
END:DAYLIGHT
END:VTIMEZONE
BEGIN:VEVENT
UID:2ab4a400-4700-4c56-94df-3e16a591490b
DTSTAMP:20260422T004647Z
DESCRIPTION:Research indicates that Black Americans are significantly more 
 likely to develop Alzheimer's disease compared to other racial groups in t
 he United States\, with studies showing they are roughly 1.5 to 2 times mo
 re likely to be diagnosed with the disease than white Americans. Let’s lea
 rn why together. \n\n<b>Zoom link provided upon registration.</b>\n\n&nbsp
 \;<strong><a href='https://insightmemory.app.neoncrm.com/eventReg.jsp?even
 t=2193&' target='_blank' class='button' rel='noreferrer noopener'>Sign Me 
 Up!</a></strong>\n\n\n&nbsp\;\n<b>Presenter</b>\nDawn Jefferson\, Educatio
 n and Support Coordinator\, Insight Memory Care Center\n\n\n
DTSTART;TZID=America/New_York:20250227T190000
DTEND;TZID=America/New_York:20250227T200000
LOCATION:Virtual! Zoom link provided upon registration.
SUMMARY:Looking at the Increased Cases of Alzheimer’s Disease Among Black A
 mericans
END:VEVENT
END:VCALENDAR
