BEGIN:VCALENDAR
VERSION:2.0
PRODID:-//www.insightmcc.org//NONSGML kigkonsult.se iCalcreator 2.30.10//
CALSCALE:GREGORIAN
METHOD:PUBLISH
UID:59acb110-1a88-47fe-98b9-0f8ba31b92f3
X-WR-CALDESC:Dementia Capable Care (DCC) is an evidence-based dementia and 
 behavior training program designed for health care workers that makes a su
 stainable impact.\n\nEarners can apply specialized approaches using Dement
 ia Care Specialists at Crisis Prevention Institute’s (CPI) Dementia Capabl
 e Care Model to: \n(a) optimize function\, safety\, and quality of life th
 rough person-centered and cognitively supportive approaches using Allen Co
 gnitive Levels and Model\n(b) apply CPI’s Crisis Development Model℠ to pre
 vent and de-escalate distress behaviors and\n(c) support families. \n\nEar
 ners of this designation are leaders in a dementia capable workforce and a
 dvocates of a Dementia Capable Society.\n\nCost is $200 per person. \n\n<b
 >This course is a hybrid format. Learners will complete a 4 hour online cl
 ass prior to the in person class. After you complete this registration you
  will receive an email from crisisprevention.com to start the online class
 .</b>\n\n** Last date to sign up for this session is Friday 2/21/25. **\n
 \nIn person portion details: March 5\, 2025 9:00am - 1:00pm at Tall Oaks A
 ssisted Living - 12052 N Shore Dr\, Reston\, VA 20190\n\nThanks to our spo
 nsor Tall Oaks Assisted Living - light snacks will be provided.\n\n&nbsp\;
 \n<strong><a href='https://insightmemory.app.neoncrm.com/np/clients/insigh
 tmemory/eventRegistration.jsp?event=2218&' target='_blank' class='button' 
 rel='noreferrer noopener'>Sign Me Up!</a></strong>
X-WR-RELCALID:674253e2ddc01e73867a1bbe0b48b813
X-WR-TIMEZONE:America/New_York
BEGIN:VTIMEZONE
TZID:America/New_York
BEGIN:STANDARD
TZNAME:EST
DTSTART:20241103T020000
TZOFFSETFROM:-0400
TZOFFSETTO:-0500
RDATE:20251102T020000
END:STANDARD
BEGIN:DAYLIGHT
TZNAME:EDT
DTSTART:20240310T020000
TZOFFSETFROM:-0500
TZOFFSETTO:-0400
RDATE:20250309T020000
RDATE:20260308T020000
END:DAYLIGHT
END:VTIMEZONE
BEGIN:VEVENT
UID:825a84af-cc03-480b-84fd-619919b5cebf
DTSTAMP:20260422T020541Z
DESCRIPTION:Dementia Capable Care (DCC) is an evidence-based dementia and b
 ehavior training program designed for health care workers that makes a sus
 tainable impact.\n\nEarners can apply specialized approaches using Dementi
 a Care Specialists at Crisis Prevention Institute’s (CPI) Dementia Capable
  Care Model to: \n(a) optimize function\, safety\, and quality of life thr
 ough person-centered and cognitively supportive approaches using Allen Cog
 nitive Levels and Model\n(b) apply CPI’s Crisis Development Model℠ to prev
 ent and de-escalate distress behaviors and\n(c) support families. \n\nEarn
 ers of this designation are leaders in a dementia capable workforce and ad
 vocates of a Dementia Capable Society.\n\nCost is $200 per person. \n\n<b>
 This course is a hybrid format. Learners will complete a 4 hour online cla
 ss prior to the in person class. After you complete this registration you 
 will receive an email from crisisprevention.com to start the online class.
 </b>\n\n** Last date to sign up for this session is Friday 2/21/25. **\n\n
 In person portion details: March 5\, 2025 9:00am - 1:00pm at Tall Oaks Ass
 isted Living - 12052 N Shore Dr\, Reston\, VA 20190\n\nThanks to our spons
 or Tall Oaks Assisted Living - light snacks will be provided.\n\n&nbsp\;\n
 <strong><a href='https://insightmemory.app.neoncrm.com/np/clients/insightm
 emory/eventRegistration.jsp?event=2218&' target='_blank' class='button' re
 l='noreferrer noopener'>Sign Me Up!</a></strong>
DTSTART;TZID=America/New_York:20250305T090000
DTEND;TZID=America/New_York:20250305T130000
LOCATION:Tall Oaks Assisted Living\, 12052 N Shore Dr\, Reston\, VA 20190 U
 S
SUMMARY:Dementia Capable Care Specialist (DCC) Training
END:VEVENT
END:VCALENDAR
