BEGIN:VCALENDAR
VERSION:2.0
PRODID:-//www.insightmcc.org//NONSGML kigkonsult.se iCalcreator 2.30.10//
CALSCALE:GREGORIAN
METHOD:PUBLISH
UID:89b754e7-c7a0-4de0-a425-54c2c9fe400c
X-WR-CALDESC:Care Partner Meet-Ups are an informal way for current families
  to meet\, chat\, and get to know one another! You are welcome to stop in 
 and stay as long as you'd like. We offer meet-ups in both Fairfax (1st Fri
 days) and Sterling (1st Wednesdays) once a month.\n\n&nbsp\;\n<strong><a h
 ref='https://insightmemory.app.neoncrm.com/eventReg.jsp?event=1998&' targe
 t='_blank' class='button' rel='noreferrer noopener'>Sign Me Up!</a></stron
 g>\n\n\n\n
X-WR-RELCALID:0a812969b8bedece26335e8aaa24cd6b
X-WR-TIMEZONE:America/New_York
BEGIN:VTIMEZONE
TZID:America/New_York
BEGIN:STANDARD
TZNAME:EST
DTSTART:20241103T020000
TZOFFSETFROM:-0400
TZOFFSETTO:-0500
RDATE:20251102T020000
END:STANDARD
BEGIN:DAYLIGHT
TZNAME:EDT
DTSTART:20240310T020000
TZOFFSETFROM:-0500
TZOFFSETTO:-0400
RDATE:20250309T020000
RDATE:20260308T020000
END:DAYLIGHT
END:VTIMEZONE
BEGIN:VEVENT
UID:bb49aa88-d9ba-4413-abec-bb0792b234db
DTSTAMP:20260422T021008Z
DESCRIPTION:Care Partner Meet-Ups are an informal way for current families 
 to meet\, chat\, and get to know one another! You are welcome to stop in a
 nd stay as long as you'd like. We offer meet-ups in both Fairfax (1st Frid
 ays) and Sterling (1st Wednesdays) once a month.\n\n&nbsp\;\n<strong><a hr
 ef='https://insightmemory.app.neoncrm.com/eventReg.jsp?event=1998&' target
 ='_blank' class='button' rel='noreferrer noopener'>Sign Me Up!</a></strong
 >\n\n\n\n
DTSTART;TZID=America/New_York:20250307T100000
DTEND;TZID=America/New_York:20250307T110000
LOCATION:Fairfax Coffee\,  11451 Braddock Rd\, Fairfax\, VA 22030 US
SUMMARY:Fairfax Care Partner Meet-Up
END:VEVENT
END:VCALENDAR
