BEGIN:VCALENDAR
VERSION:2.0
PRODID:-//www.insightmcc.org//NONSGML kigkonsult.se iCalcreator 2.30.10//
CALSCALE:GREGORIAN
METHOD:PUBLISH
UID:d83de9c2-c922-46cb-8590-3277fd436964
X-WR-CALDESC:All are welcome to attend this support group for family and fr
 iends of those with dementia and other memory impairments. This group allo
 ws care partners to problem-solve\, discuss issues\, and connect with each
  other regarding dementia in every-day life. This group will also include 
 practical resources and guest speakers throughout the year.\n\nThis group 
 is held the second Tuesday of the month in person at The Residence at Colv
 in Run. All support groups are free and open to the public.
X-WR-RELCALID:d8998350179356d5e0f6a687247e3ee9
X-WR-TIMEZONE:America/New_York
BEGIN:VTIMEZONE
TZID:America/New_York
BEGIN:STANDARD
TZNAME:EST
DTSTART:20241103T020000
TZOFFSETFROM:-0400
TZOFFSETTO:-0500
RDATE:20251102T020000
END:STANDARD
BEGIN:DAYLIGHT
TZNAME:EDT
DTSTART:20250309T020000
TZOFFSETFROM:-0500
TZOFFSETTO:-0400
RDATE:20260308T020000
END:DAYLIGHT
END:VTIMEZONE
BEGIN:VEVENT
UID:52dc404f-655b-477a-ad04-362a28dc4bff
DTSTAMP:20260422T020721Z
DESCRIPTION:All are welcome to attend this support group for family and fri
 ends of those with dementia and other memory impairments. This group allow
 s care partners to problem-solve\, discuss issues\, and connect with each 
 other regarding dementia in every-day life. This group will also include p
 ractical resources and guest speakers throughout the year.\n\nThis group i
 s held the second Tuesday of the month in person at The Residence at Colvi
 n Run. All support groups are free and open to the public.
DTSTART;TZID=America/New_York:20250311T170000
DTEND;TZID=America/New_York:20250311T180000
LOCATION:The Residence at Colvin Run\, 1131 Walker Rd\, Great Falls\, VA 22
 066 US
SUMMARY:Dementia Care Partner Support Group - Colvin Run
END:VEVENT
END:VCALENDAR
