BEGIN:VCALENDAR
VERSION:2.0
PRODID:-//www.insightmcc.org//NONSGML kigkonsult.se iCalcreator 2.30.10//
CALSCALE:GREGORIAN
METHOD:PUBLISH
UID:7a3b8191-1d69-45df-bb73-4bf1e8017cd4
X-WR-CALDESC:Join us as Melissa Long of Insight Memory Care Center educates
  us about the five kinds of dementia. Learn about emotional\, physical and
  cognitive changes common to Vascular Dementia\, Alzheimer’s\, Frontotempo
 ral Dementia (FTD)\, Lewy Body Dementia (LBD) and Parkinson’s/CTE Dementia
 . And gain insight into their differences.\n\n\n\n\nPlease visit The Kensi
 ngton Reston Events to sign up - https://kensingtonreston.com/events/a-dee
 p-dive-into-the-five-dementias
X-WR-RELCALID:394d18415659c78405f87bd7db7b0510
X-WR-TIMEZONE:America/New_York
BEGIN:VTIMEZONE
TZID:America/New_York
BEGIN:STANDARD
TZNAME:EST
DTSTART:20241103T020000
TZOFFSETFROM:-0400
TZOFFSETTO:-0500
RDATE:20251102T020000
END:STANDARD
BEGIN:DAYLIGHT
TZNAME:EDT
DTSTART:20250309T020000
TZOFFSETFROM:-0500
TZOFFSETTO:-0400
RDATE:20260308T020000
END:DAYLIGHT
END:VTIMEZONE
BEGIN:VEVENT
UID:316d59a3-e24b-4f42-8656-82d7d5d1e62d
DTSTAMP:20260422T020402Z
DESCRIPTION:Join us as Melissa Long of Insight Memory Care Center educates 
 us about the five kinds of dementia. Learn about emotional\, physical and 
 cognitive changes common to Vascular Dementia\, Alzheimer’s\, Frontotempor
 al Dementia (FTD)\, Lewy Body Dementia (LBD) and Parkinson’s/CTE Dementia.
  And gain insight into their differences.\n\n\n\n\nPlease visit The Kensin
 gton Reston Events to sign up - https://kensingtonreston.com/events/a-deep
 -dive-into-the-five-dementias
DTSTART;TZID=America/New_York:20250311T160000
DTEND;TZID=America/New_York:20250311T170000
LOCATION:The Kensington Reston\, 11501 Sunrise Valley Dr\, Reston\, VA 2019
 1 US
SUMMARY:A Deep Dive Into The Five Dementias
END:VEVENT
END:VCALENDAR
