BEGIN:VCALENDAR
VERSION:2.0
PRODID:-//www.insightmcc.org//NONSGML kigkonsult.se iCalcreator 2.30.10//
CALSCALE:GREGORIAN
METHOD:PUBLISH
UID:41a38f1b-ba3c-4b39-af4e-54bb150c38b8
X-WR-CALDESC:The Virtual Dementia Tour (VDT) is designed to help simulate t
 he effects of dementia. A trained facilitator will guide participants outf
 itted with patented devices that alter their senses while they try to comp
 lete common everyday tasks and exercises. The Tour enables caregivers to e
 xperience for themselves the physical and mental challenges those with dem
 entia face\, and use the experience to provide better person-centered care
 .\n\nSign up for a specific time slot\; only two are available each half-h
 our. Pick your slot today to gain better insight into caring for those wit
 h memory impairments! \n\n\n&nbsp\;<strong><a href='https://insightmemory.
 app.neoncrm.com/eventReg.jsp?event=2228&' target='_blank' class='button' r
 el='noreferrer noopener'>Sign Me Up!</a></strong>
X-WR-RELCALID:6a940dd178a3cd08d39854e2e988fa02
X-WR-TIMEZONE:America/New_York
BEGIN:VTIMEZONE
TZID:America/New_York
BEGIN:STANDARD
TZNAME:EST
DTSTART:20241103T020000
TZOFFSETFROM:-0400
TZOFFSETTO:-0500
RDATE:20251102T020000
END:STANDARD
BEGIN:DAYLIGHT
TZNAME:EDT
DTSTART:20250309T020000
TZOFFSETFROM:-0500
TZOFFSETTO:-0400
RDATE:20260308T020000
END:DAYLIGHT
END:VTIMEZONE
BEGIN:VEVENT
UID:ed4f992c-09d4-4988-bf92-ab8db46bc959
DTSTAMP:20260422T021008Z
DESCRIPTION:The Virtual Dementia Tour (VDT) is designed to help simulate th
 e effects of dementia. A trained facilitator will guide participants outfi
 tted with patented devices that alter their senses while they try to compl
 ete common everyday tasks and exercises. The Tour enables caregivers to ex
 perience for themselves the physical and mental challenges those with deme
 ntia face\, and use the experience to provide better person-centered care.
 \n\nSign up for a specific time slot\; only two are available each half-ho
 ur. Pick your slot today to gain better insight into caring for those with
  memory impairments! \n\n\n&nbsp\;<strong><a href='https://insightmemory.a
 pp.neoncrm.com/eventReg.jsp?event=2228&' target='_blank' class='button' re
 l='noreferrer noopener'>Sign Me Up!</a></strong>
DTSTART;TZID=America/New_York:20250311T120000
DTEND;TZID=America/New_York:20250311T160000
LOCATION:Heritage Village Assisted Living and Memory Care\, 13650 Heathcote
  Blvd\, Gainsville\, VA 20155 US
SUMMARY:Virtual Dementia Tour (VDT) (in-person event)
END:VEVENT
END:VCALENDAR
