BEGIN:VCALENDAR
VERSION:2.0
PRODID:-//www.insightmcc.org//NONSGML kigkonsult.se iCalcreator 2.30.10//
CALSCALE:GREGORIAN
METHOD:PUBLISH
UID:473d1891-9c58-4980-858d-141270c47f84
X-WR-CALDESC:All are welcome to attend this support group for family and fr
 iends of those with dementia and other memory impairments. This group allo
 ws care partners to problem-solve\, discuss issues\, and connect with each
  other regarding dementia in every-day life. This group will also include 
 practical resources and guest speakers throughout the year.\n\nThis group 
 is facilitated by Insight staff and meets at Arden Courts of Fair Oaks on 
 the second Wednesday of the month. All support groups are free and open to
  the public. \n\nPlease reach out to the event contact listed below to RSV
 P!
X-WR-RELCALID:d8eeab182c7435fa3413a768f3a22799
X-WR-TIMEZONE:America/New_York
BEGIN:VTIMEZONE
TZID:America/New_York
BEGIN:STANDARD
TZNAME:EST
DTSTART:20241103T020000
TZOFFSETFROM:-0400
TZOFFSETTO:-0500
RDATE:20251102T020000
END:STANDARD
BEGIN:DAYLIGHT
TZNAME:EDT
DTSTART:20250309T020000
TZOFFSETFROM:-0500
TZOFFSETTO:-0400
RDATE:20260308T020000
END:DAYLIGHT
END:VTIMEZONE
BEGIN:VEVENT
UID:81f50a61-73d2-4baa-bca4-4b28c8a0508f
DTSTAMP:20260422T020642Z
DESCRIPTION:All are welcome to attend this support group for family and fri
 ends of those with dementia and other memory impairments. This group allow
 s care partners to problem-solve\, discuss issues\, and connect with each 
 other regarding dementia in every-day life. This group will also include p
 ractical resources and guest speakers throughout the year.\n\nThis group i
 s facilitated by Insight staff and meets at Arden Courts of Fair Oaks on t
 he second Wednesday of the month. All support groups are free and open to 
 the public. \n\nPlease reach out to the event contact listed below to RSVP
 !
DTSTART;TZID=America/New_York:20250312T163000
DTEND;TZID=America/New_York:20250312T173000
LOCATION:Arden Courts Memory Care - Fair Oaks\, 12469 Lee Jackson Memorial 
 Hwy\, Fairfax\, VA 22033 US
SUMMARY:Dementia Caregiver Support Group
END:VEVENT
END:VCALENDAR
