BEGIN:VCALENDAR
VERSION:2.0
PRODID:-//www.insightmcc.org//NONSGML kigkonsult.se iCalcreator 2.30.10//
CALSCALE:GREGORIAN
METHOD:PUBLISH
UID:c50c219a-dbb5-44c0-9592-394fc92ae418
X-WR-CALDESC:This session equips care partners with essential tools and str
 ategies to support their loved ones at risk of or diagnosed with dementia.
  Learn proactive measures to delay neurodegenerative decline\, understand 
 the stages of dementia\, and explore practical tips for enhancing quality 
 of life both before and after diagnosis.\n\n\n<b>This class will be held b
 oth virtually and in-person in Fairfax. Please select your attendance type
  when you register.</b>\n\nThe in-person session will be held in the Mazaw
 ey Education and Support Center\, 3955 Pender Drive\, Suite 100\, Fairfax\
 , VA 22030.\n\nVirtual attendees will receive Zoom information prior to th
 e class.\n\nThis program is a part of our monthly Care Partner Training se
 ries. All sessions are FREE\, and held the second Wednesday of each month 
 from 1:00 to 2:30 pm.\n\n\n&nbsp\;\n<strong><a href='https://insightmemory
 .app.neoncrm.com/np/clients/insightmemory/eventRegistration.jsp?event=2133
 &' class='button'>Sign Me Up - In Person</a></strong>\n\n<strong><a href='
 https://insightmemory.app.neoncrm.com/np/clients/insightmemory/eventRegist
 ration.jsp?event=2138&' class='button'>Sign Me Up - Virtual</a></strong>\n
 \n\n<b>Presenter</b>\n<i>Dr. Ellen Clarke\, PhD</i>\n\nDr. Ellen Clarke\, 
 with her PhD in Human Factors from George Mason University\, founded Brain
  Evolved to translate her groundbreaking research into practical cognitive
  enhancement tools. Her work\, initially focused on the effectiveness of c
 ognitive training games\, has been pivotal in shaping Brain Charge.\n\nBra
 in Evolved was formed as a result of Dr. Clarke’s experience with her gran
 dmother\, Olive. Olive played a pivotal role in Dr. Clarke’s childhood. Un
 fortunately\, Olive was diagnosed with Alzheimer’s Disease when Dr. Clarke
  was in her teens. This diagnosis came at a critical point in Dr. Clarke’s
  education and inspired her to focus her efforts on a career that would he
 lp those with similar challenges. One PhD and years of industry experience
  later\, Dr. Clarke started Brain Evolved in pursuit of cognitive enhancem
 ent.\n
X-WR-RELCALID:77d5492bf3459f3f444c3c9757cd79d8
X-WR-TIMEZONE:America/New_York
BEGIN:VTIMEZONE
TZID:America/New_York
BEGIN:STANDARD
TZNAME:EST
DTSTART:20241103T020000
TZOFFSETFROM:-0400
TZOFFSETTO:-0500
RDATE:20251102T020000
END:STANDARD
BEGIN:DAYLIGHT
TZNAME:EDT
DTSTART:20250309T020000
TZOFFSETFROM:-0500
TZOFFSETTO:-0400
RDATE:20260308T020000
END:DAYLIGHT
END:VTIMEZONE
BEGIN:VEVENT
UID:9999a758-2687-467e-ae46-d624cfe86749
DTSTAMP:20260422T022150Z
DESCRIPTION:This session equips care partners with essential tools and stra
 tegies to support their loved ones at risk of or diagnosed with dementia. 
 Learn proactive measures to delay neurodegenerative decline\, understand t
 he stages of dementia\, and explore practical tips for enhancing quality o
 f life both before and after diagnosis.\n\n\n<b>This class will be held bo
 th virtually and in-person in Fairfax. Please select your attendance type 
 when you register.</b>\n\nThe in-person session will be held in the Mazawe
 y Education and Support Center\, 3955 Pender Drive\, Suite 100\, Fairfax\,
  VA 22030.\n\nVirtual attendees will receive Zoom information prior to the
  class.\n\nThis program is a part of our monthly Care Partner Training ser
 ies. All sessions are FREE\, and held the second Wednesday of each month f
 rom 1:00 to 2:30 pm.\n\n\n&nbsp\;\n<strong><a href='https://insightmemory.
 app.neoncrm.com/np/clients/insightmemory/eventRegistration.jsp?event=2133&
 ' class='button'>Sign Me Up - In Person</a></strong>\n\n<strong><a href='h
 ttps://insightmemory.app.neoncrm.com/np/clients/insightmemory/eventRegistr
 ation.jsp?event=2138&' class='button'>Sign Me Up - Virtual</a></strong>\n
 \n\n<b>Presenter</b>\n<i>Dr. Ellen Clarke\, PhD</i>\n\nDr. Ellen Clarke\, 
 with her PhD in Human Factors from George Mason University\, founded Brain
  Evolved to translate her groundbreaking research into practical cognitive
  enhancement tools. Her work\, initially focused on the effectiveness of c
 ognitive training games\, has been pivotal in shaping Brain Charge.\n\nBra
 in Evolved was formed as a result of Dr. Clarke’s experience with her gran
 dmother\, Olive. Olive played a pivotal role in Dr. Clarke’s childhood. Un
 fortunately\, Olive was diagnosed with Alzheimer’s Disease when Dr. Clarke
  was in her teens. This diagnosis came at a critical point in Dr. Clarke’s
  education and inspired her to focus her efforts on a career that would he
 lp those with similar challenges. One PhD and years of industry experience
  later\, Dr. Clarke started Brain Evolved in pursuit of cognitive enhancem
 ent.\n
DTSTART;TZID=America/New_York:20250312T130000
DTEND;TZID=America/New_York:20250312T143000
LOCATION:Hybrid! Virtual and in-person at Insight Memory Care Center - Fair
 fax
SUMMARY:Preventing Neurodegenerative Decline
END:VEVENT
END:VCALENDAR
