BEGIN:VCALENDAR
VERSION:2.0
PRODID:-//www.insightmcc.org//NONSGML kigkonsult.se iCalcreator 2.30.10//
CALSCALE:GREGORIAN
METHOD:PUBLISH
UID:c1f1af39-c4bf-41ee-a64d-5d88adfdf1ba
X-WR-CALDESC:This group will offer a safe\, welcoming and private setting f
 or caregivers to share their caregiving experiences\, connect with others 
 going through the same journey and receive insight from an expert. There w
 ill also be group discussions and educational presentations about relevant
  caregiving topics.\n\nFor March the topic will be Dementia 101. Learn the
  basics of dementia\, including Alzheimer’s disease and other dementias. W
 hile not everyone travels the same path\, come and learn about the general
  stages to help you anticipate future changes.
X-WR-RELCALID:3eca3869c6169f6649ecc04a9d0f20bb
X-WR-TIMEZONE:America/New_York
BEGIN:VTIMEZONE
TZID:America/New_York
BEGIN:STANDARD
TZNAME:EST
DTSTART:20241103T020000
TZOFFSETFROM:-0400
TZOFFSETTO:-0500
RDATE:20251102T020000
END:STANDARD
BEGIN:DAYLIGHT
TZNAME:EDT
DTSTART:20250309T020000
TZOFFSETFROM:-0500
TZOFFSETTO:-0400
RDATE:20260308T020000
END:DAYLIGHT
END:VTIMEZONE
BEGIN:VEVENT
UID:1f00e25c-2aba-419c-bf3d-589bd14a6458
DTSTAMP:20260422T020241Z
DESCRIPTION:This group will offer a safe\, welcoming and private setting fo
 r caregivers to share their caregiving experiences\, connect with others g
 oing through the same journey and receive insight from an expert. There wi
 ll also be group discussions and educational presentations about relevant 
 caregiving topics.\n\nFor March the topic will be Dementia 101. Learn the 
 basics of dementia\, including Alzheimer’s disease and other dementias. Wh
 ile not everyone travels the same path\, come and learn about the general 
 stages to help you anticipate future changes.
DTSTART;TZID=America/New_York:20250313T150000
DTEND;TZID=America/New_York:20250313T160000
LOCATION:Great Falls Assisted Living\, 1121 Reston Ave\, Herndon\, VA 20170
  US
SUMMARY:Caregiver Support Group
END:VEVENT
END:VCALENDAR
