BEGIN:VCALENDAR
VERSION:2.0
PRODID:-//www.insightmcc.org//NONSGML kigkonsult.se iCalcreator 2.30.10//
CALSCALE:GREGORIAN
METHOD:PUBLISH
UID:2bfbc921-9548-40a8-95e3-6dda72f910d9
X-WR-CALDESC:Join us for the March Friends of Insight Meeting!\n\nWe'll be 
 discussing our upcoming event plans\, current outreach and volunteer oppor
 tunities\, and brainstorming around potential new Insight program opportun
 ities. Come ready to discuss and catch-up with friends!\n\n&nbsp\;\n<stron
 g><a href='https://insightmemory.app.neoncrm.com/eventReg.jsp?event=2294&'
  target='_blank' class='button' rel='noreferrer noopener'>Sign Me Up!</a><
 /strong>
X-WR-RELCALID:44874e202d10a66b645560d3dfd86338
X-WR-TIMEZONE:America/New_York
BEGIN:VTIMEZONE
TZID:America/New_York
BEGIN:STANDARD
TZNAME:EST
DTSTART:20241103T020000
TZOFFSETFROM:-0400
TZOFFSETTO:-0500
RDATE:20251102T020000
END:STANDARD
BEGIN:DAYLIGHT
TZNAME:EDT
DTSTART:20250309T020000
TZOFFSETFROM:-0500
TZOFFSETTO:-0400
RDATE:20260308T020000
END:DAYLIGHT
END:VTIMEZONE
BEGIN:VEVENT
UID:a2199b1c-fe5a-414c-b678-f750fb3cbba4
DTSTAMP:20260422T020743Z
DESCRIPTION:Join us for the March Friends of Insight Meeting!\n\nWe'll be d
 iscussing our upcoming event plans\, current outreach and volunteer opport
 unities\, and brainstorming around potential new Insight program opportuni
 ties. Come ready to discuss and catch-up with friends!\n\n&nbsp\;\n<strong
 ><a href='https://insightmemory.app.neoncrm.com/eventReg.jsp?event=2294&' 
 target='_blank' class='button' rel='noreferrer noopener'>Sign Me Up!</a></
 strong>
DTSTART;TZID=America/New_York:20250317T113000
DTEND;TZID=America/New_York:20250317T133000
LOCATION:Insight Memory Care Center - Fairfax \, 3953 Pender Drive\, Suite 
 100\, Fairfax\, VA 22030 US
SUMMARY:Friends of Insight Meeting
END:VEVENT
END:VCALENDAR
