BEGIN:VCALENDAR
VERSION:2.0
PRODID:-//www.insightmcc.org//NONSGML kigkonsult.se iCalcreator 2.30.10//
CALSCALE:GREGORIAN
METHOD:PUBLISH
UID:3739a890-1729-4d8e-9ea7-81a53ab01f57
X-WR-CALDESC:The Primary Progressive Aphasia Memory Café is a monthly socia
 l gathering for caregivers & loved ones with progressive aphasia and mild 
 memory loss hosted by Insight Memory Care Center. This cafe is a monthly e
 ngagement program of activities\, recreation\, peer support and socializat
 ion for individuals showing early signs of memory loss and progressive aph
 asia and their caregivers. \n\nEvery gathering is geared toward keeping th
 e mind active during the early stages of progressive aphasia and improving
  communication and connection between caregivers and loved ones to the gre
 atest degree possible.\n\nTo ensure we have space and program supplies for
  each participant\, we ask that you please register in advance. We look fo
 rward to seeing you at the next café! \n\n\n<b>Please note the NEW locatio
 n\, day & time for this month!</b> \n\nThe cafe will now be held on the 3r
 d Thursday of the month. Location: Dolley Madison Library\, 1244 Oak Ridge
  Ave\, McLean\, VA 22101\n\n&nbsp\;\n<strong><a href='https://insightmemor
 y.app.neoncrm.com/eventReg.jsp?event=2253&' target='_blank' class='button'
  rel='noreferrer noopener'>Sign Me Up!</a></strong>\n\nMany thanks to our 
 partner the Stroke Comeback Center!
X-WR-RELCALID:dad31ffc4f4cb8eb2565a7ccc28cb3e0
X-WR-TIMEZONE:America/New_York
BEGIN:VTIMEZONE
TZID:America/New_York
BEGIN:STANDARD
TZNAME:EST
DTSTART:20241103T020000
TZOFFSETFROM:-0400
TZOFFSETTO:-0500
RDATE:20251102T020000
END:STANDARD
BEGIN:DAYLIGHT
TZNAME:EDT
DTSTART:20250309T020000
TZOFFSETFROM:-0500
TZOFFSETTO:-0400
RDATE:20260308T020000
END:DAYLIGHT
END:VTIMEZONE
BEGIN:VEVENT
UID:39cf17bf-4e70-456e-9ad4-8050a58ae110
DTSTAMP:20260422T020641Z
DESCRIPTION:The Primary Progressive Aphasia Memory Café is a monthly social
  gathering for caregivers & loved ones with progressive aphasia and mild m
 emory loss hosted by Insight Memory Care Center. This cafe is a monthly en
 gagement program of activities\, recreation\, peer support and socializati
 on for individuals showing early signs of memory loss and progressive apha
 sia and their caregivers. \n\nEvery gathering is geared toward keeping the
  mind active during the early stages of progressive aphasia and improving 
 communication and connection between caregivers and loved ones to the grea
 test degree possible.\n\nTo ensure we have space and program supplies for 
 each participant\, we ask that you please register in advance. We look for
 ward to seeing you at the next café! \n\n\n<b>Please note the NEW location
 \, day & time for this month!</b> \n\nThe cafe will now be held on the 3rd
  Thursday of the month. Location: Dolley Madison Library\, 1244 Oak Ridge 
 Ave\, McLean\, VA 22101\n\n&nbsp\;\n<strong><a href='https://insightmemory
 .app.neoncrm.com/eventReg.jsp?event=2253&' target='_blank' class='button' 
 rel='noreferrer noopener'>Sign Me Up!</a></strong>\n\nMany thanks to our p
 artner the Stroke Comeback Center!
DTSTART;TZID=America/New_York:20250320T133000
DTEND;TZID=America/New_York:20250320T143000
LOCATION:Dolley Madison Library\, 1244 Oak Ridge Ave\, McLean\, VA 22101 US
SUMMARY:Primary Progressive Aphasia Memory Café
END:VEVENT
END:VCALENDAR
