BEGIN:VCALENDAR
VERSION:2.0
PRODID:-//www.insightmcc.org//NONSGML kigkonsult.se iCalcreator 2.30.10//
CALSCALE:GREGORIAN
METHOD:PUBLISH
UID:8226fa78-5f44-4f4c-a7eb-36deee411d68
X-WR-CALDESC:Join us for a live animal demonstration and hike!\n\nMeet Me: 
 Community Outings are free\, and give families living with mild cognitive 
 impairment (MCI) or early stage memory loss an opportunity to connect and 
 stay engaged in the community\, in a safe and supportive way. Outings are 
 designed for both the diagnosed individual and a care partner or friend to
  participate together\, and meet new friends in the process!\n\n&nbsp\;\n<
 strong><a href='https://insightmemory.app.neoncrm.com/eventReg.jsp?event=2
 018&' target='_blank' class='button' rel='noreferrer noopener'>Sign Me Up!
 </a></strong>
X-WR-RELCALID:0283b3b3d52e3c0569182b0737ea8069
X-WR-TIMEZONE:America/New_York
BEGIN:VTIMEZONE
TZID:America/New_York
BEGIN:STANDARD
TZNAME:EST
DTSTART:20241103T020000
TZOFFSETFROM:-0400
TZOFFSETTO:-0500
RDATE:20251102T020000
END:STANDARD
BEGIN:DAYLIGHT
TZNAME:EDT
DTSTART:20250309T020000
TZOFFSETFROM:-0500
TZOFFSETTO:-0400
RDATE:20260308T020000
END:DAYLIGHT
END:VTIMEZONE
BEGIN:VEVENT
UID:bb73e954-0eba-4b1c-82c0-c0444909741d
DTSTAMP:20260422T020716Z
DESCRIPTION:Join us for a live animal demonstration and hike!\n\nMeet Me: C
 ommunity Outings are free\, and give families living with mild cognitive i
 mpairment (MCI) or early stage memory loss an opportunity to connect and s
 tay engaged in the community\, in a safe and supportive way. Outings are d
 esigned for both the diagnosed individual and a care partner or friend to 
 participate together\, and meet new friends in the process!\n\n&nbsp\;\n<s
 trong><a href='https://insightmemory.app.neoncrm.com/eventReg.jsp?event=20
 18&' target='_blank' class='button' rel='noreferrer noopener'>Sign Me Up!<
 /a></strong>
DTSTART;TZID=America/New_York:20250320T130000
DTEND;TZID=America/New_York:20250320T150000
LOCATION:Bull Run Regional Park\, 7700 Bull Run Dr\, Centreville\, VA 20121
  US
SUMMARY:Meet Me: At Bull Run Regional Park
END:VEVENT
END:VCALENDAR
