BEGIN:VCALENDAR
VERSION:2.0
PRODID:-//www.insightmcc.org//NONSGML kigkonsult.se iCalcreator 2.30.10//
CALSCALE:GREGORIAN
METHOD:PUBLISH
UID:ae88c22e-f927-4d1a-9eeb-ba1ad7f8d64f
X-WR-CALDESC:<h4>Join us for a peek at this year's sponsorship opportunitie
 s!</h4>\nNetwork with industry professionals over drinks and appetizers\, 
 and celebrate with us as we get ready for this year’s gala. Exclusive spon
 sorship benefits available for those who attend and commit to a 2025 Paint
 ings & Pairings sponsorship! \n\n<em>Happy hour generously provided by The
  Trillium Tysons\, a Silverstone Senior Living Community</em>\n\n\n
X-WR-RELCALID:b6b3edf071744bbc758f4e9c946c2631
X-WR-TIMEZONE:America/New_York
BEGIN:VTIMEZONE
TZID:America/New_York
BEGIN:STANDARD
TZNAME:EST
DTSTART:20241103T020000
TZOFFSETFROM:-0400
TZOFFSETTO:-0500
RDATE:20251102T020000
END:STANDARD
BEGIN:DAYLIGHT
TZNAME:EDT
DTSTART:20250309T020000
TZOFFSETFROM:-0500
TZOFFSETTO:-0400
RDATE:20260308T020000
END:DAYLIGHT
END:VTIMEZONE
BEGIN:VEVENT
UID:c4c0db36-f09a-4b10-a34c-253745ad61e4
DTSTAMP:20260422T020401Z
DESCRIPTION:<h4>Join us for a peek at this year's sponsorship opportunities
 !</h4>\nNetwork with industry professionals over drinks and appetizers\, a
 nd celebrate with us as we get ready for this year’s gala. Exclusive spons
 orship benefits available for those who attend and commit to a 2025 Painti
 ngs & Pairings sponsorship! \n\n<em>Happy hour generously provided by The 
 Trillium Tysons\, a Silverstone Senior Living Community</em>\n\n\n
DTSTART;TZID=America/New_York:20250320T160000
DTEND;TZID=America/New_York:20250320T180000
LOCATION:The Trillium Tysons\, 1620 Boro Place\, Tysons\, VA 22102 US
SUMMARY:Paintings & Pairings Sponsor Kick-Off Event
END:VEVENT
END:VCALENDAR
