BEGIN:VCALENDAR
VERSION:2.0
PRODID:-//www.insightmcc.org//NONSGML kigkonsult.se iCalcreator 2.30.10//
CALSCALE:GREGORIAN
METHOD:PUBLISH
UID:5ba4b2a1-884a-4830-af54-3524bce82037
X-WR-CALDESC:Join the Inova Parkinson's and Movement Disorders Center as we
  celebrate our community and connect with each other!\n\nYou’ll hear from 
 our IPMDC team of Movement Disorders Specialists and Parkinson experts abo
 ut the latest in treatments and programs\, to help the people you care for
  to live well with Parkinson’s and other related movement disorders. For h
 ealthcare professionals\, including nursing and nurse specialists\, rehabi
 litation clinicians\, social workers and long-term care professionals.\n\n
 Lunch and refreshments will be provided.\n\nCEUs or Certificate of Attenda
 nce can be provided.
X-WR-RELCALID:454efe93cb746054d9fa50aa47e080d0
X-WR-TIMEZONE:America/New_York
BEGIN:VTIMEZONE
TZID:America/New_York
BEGIN:STANDARD
TZNAME:EST
DTSTART:20241103T020000
TZOFFSETFROM:-0400
TZOFFSETTO:-0500
RDATE:20251102T020000
END:STANDARD
BEGIN:DAYLIGHT
TZNAME:EDT
DTSTART:20250309T020000
TZOFFSETFROM:-0500
TZOFFSETTO:-0400
RDATE:20260308T020000
END:DAYLIGHT
END:VTIMEZONE
BEGIN:VEVENT
UID:8a3060cd-cb2c-44ef-8093-a32b17c9a809
DTSTAMP:20260422T021028Z
DESCRIPTION:Join the Inova Parkinson's and Movement Disorders Center as we 
 celebrate our community and connect with each other!\n\nYou’ll hear from o
 ur IPMDC team of Movement Disorders Specialists and Parkinson experts abou
 t the latest in treatments and programs\, to help the people you care for 
 to live well with Parkinson’s and other related movement disorders. For he
 althcare professionals\, including nursing and nurse specialists\, rehabil
 itation clinicians\, social workers and long-term care professionals.\n\nL
 unch and refreshments will be provided.\n\nCEUs or Certificate of Attendan
 ce can be provided.
DTSTART;TZID=America/New_York:20250321T083000
DTEND;TZID=America/New_York:20250321T153000
LOCATION:Inova Conference Center\, 8100 Innovation Park Dr.\, Fairfax\, VA 
 22031 US
SUMMARY:Inova Parkinson's and Movement Disorders Center - 2025 Health Care 
 Professionals Conference
END:VEVENT
END:VCALENDAR
