BEGIN:VCALENDAR
VERSION:2.0
PRODID:-//www.insightmcc.org//NONSGML kigkonsult.se iCalcreator 2.30.10//
CALSCALE:GREGORIAN
METHOD:PUBLISH
UID:f579386e-fb9c-45c6-9946-78e44294a9da
X-WR-CALDESC:Communication often becomes difficult as dementia progresses. 
 Learn skills that can help ease the frustration and lead to successful int
 eractions.\n\nThis class is presented by the Education Team at Insight and
  held at the Vienna Community Center. Register to attend at the link below
 .
X-WR-RELCALID:714cb208aaa28b29a8abd68109b6d3cc
X-WR-TIMEZONE:America/New_York
BEGIN:VTIMEZONE
TZID:America/New_York
BEGIN:STANDARD
TZNAME:EST
DTSTART:20241103T020000
TZOFFSETFROM:-0400
TZOFFSETTO:-0500
RDATE:20251102T020000
END:STANDARD
BEGIN:DAYLIGHT
TZNAME:EDT
DTSTART:20250309T020000
TZOFFSETFROM:-0500
TZOFFSETTO:-0400
RDATE:20260308T020000
END:DAYLIGHT
END:VTIMEZONE
BEGIN:VEVENT
UID:bc1dad22-9915-4591-bcc5-3f7e2945bdd5
DTSTAMP:20260422T020721Z
DESCRIPTION:Communication often becomes difficult as dementia progresses. L
 earn skills that can help ease the frustration and lead to successful inte
 ractions.\n\nThis class is presented by the Education Team at Insight and 
 held at the Vienna Community Center. Register to attend at the link below.
DTSTART;TZID=America/New_York:20250324T100000
DTEND;TZID=America/New_York:20250324T110000
LOCATION:Vienna Community Center\, 120 Cherry St SE\, Vienna\, VA 22180 US
SUMMARY:Enhancing Communication with a Person with Dementia
END:VEVENT
END:VCALENDAR
