BEGIN:VCALENDAR
VERSION:2.0
PRODID:-//www.insightmcc.org//NONSGML kigkonsult.se iCalcreator 2.30.10//
CALSCALE:GREGORIAN
METHOD:PUBLISH
UID:24fc332a-ad73-4970-a830-49bc7fa208a4
X-WR-CALDESC:Learn more about age-related changes in memory and learning\, 
 and practices to keep your brain sharp! Learn what to expect\, what’s “nor
 mal\,” and when it’s time to seek a doctor’s input.\n\nThis class is prese
 nted by the Insight team at the Langston-Brown Community Center\, please R
 SVP with the contact listed below!\n\n
X-WR-RELCALID:db08a48b79f972b51452a6b067eb8fec
X-WR-TIMEZONE:America/New_York
BEGIN:VTIMEZONE
TZID:America/New_York
BEGIN:STANDARD
TZNAME:EST
DTSTART:20241103T020000
TZOFFSETFROM:-0400
TZOFFSETTO:-0500
RDATE:20251102T020000
END:STANDARD
BEGIN:DAYLIGHT
TZNAME:EDT
DTSTART:20250309T020000
TZOFFSETFROM:-0500
TZOFFSETTO:-0400
RDATE:20260308T020000
END:DAYLIGHT
END:VTIMEZONE
BEGIN:VEVENT
UID:89077517-e788-4c4d-8225-d63d244c9d5b
DTSTAMP:20260422T033454Z
DESCRIPTION:Learn more about age-related changes in memory and learning\, a
 nd practices to keep your brain sharp! Learn what to expect\, what’s “norm
 al\,” and when it’s time to seek a doctor’s input.\n\nThis class is presen
 ted by the Insight team at the Langston-Brown Community Center\, please RS
 VP with the contact listed below!\n\n
DTSTART;TZID=America/New_York:20250402T100000
DTEND;TZID=America/New_York:20250402T110000
LOCATION:Langston-Brown Community Center\, 2121 N Culpeper St\, Arlington\,
  VA 22207 US
SUMMARY:Better Brain Health as You Age
END:VEVENT
END:VCALENDAR
