BEGIN:VCALENDAR
VERSION:2.0
PRODID:-//www.insightmcc.org//NONSGML kigkonsult.se iCalcreator 2.30.10//
CALSCALE:GREGORIAN
METHOD:PUBLISH
UID:9e406059-bcd8-41f3-bdd9-ba48e14a73c4
X-WR-CALDESC:Join us for a special VIRTUAL screening of SPARK: Robin Willia
 ms and His Battle with Lewy Body Dementia. This free event will be held vi
 a Zoom\, featuring a live panel discussion with the Lewy Body Dementia Ass
 ociation following the film. Gain valuable insights into Lewy Body Dementi
 a through the lens of Robin Williams’ experience.\n\n&nbsp\;\n<strong>This
  event is currently full.</strong>\nWe will be holding another SPARK film 
 screening event in October. <a href='https://www.insightmcc.org/about-insi
 ght-memory-care-center/contact-insight-memory-care-center/emails.html' tar
 get='_blank' rel='noreferrer noopener'>Sign up for our Classes & Education
  emails</a> to learn more about this and other upcoming events!\n
X-WR-RELCALID:a1b9d5445f3d0925b28fac7f32e51530
X-WR-TIMEZONE:America/New_York
BEGIN:VTIMEZONE
TZID:America/New_York
BEGIN:STANDARD
TZNAME:EST
DTSTART:20241103T020000
TZOFFSETFROM:-0400
TZOFFSETTO:-0500
RDATE:20251102T020000
END:STANDARD
BEGIN:DAYLIGHT
TZNAME:EDT
DTSTART:20250309T020000
TZOFFSETFROM:-0500
TZOFFSETTO:-0400
RDATE:20260308T020000
END:DAYLIGHT
END:VTIMEZONE
BEGIN:VEVENT
UID:1a89d9f8-a82e-4b01-8620-ae76b3444ce4
DTSTAMP:20260422T033453Z
DESCRIPTION:Join us for a special VIRTUAL screening of SPARK: Robin William
 s and His Battle with Lewy Body Dementia. This free event will be held via
  Zoom\, featuring a live panel discussion with the Lewy Body Dementia Asso
 ciation following the film. Gain valuable insights into Lewy Body Dementia
  through the lens of Robin Williams’ experience.\n\n&nbsp\;\n<strong>This 
 event is currently full.</strong>\nWe will be holding another SPARK film s
 creening event in October. <a href='https://www.insightmcc.org/about-insig
 ht-memory-care-center/contact-insight-memory-care-center/emails.html' targ
 et='_blank' rel='noreferrer noopener'>Sign up for our Classes & Education 
 emails</a> to learn more about this and other upcoming events!\n
DTSTART;TZID=America/New_York:20250408T190000
DTEND;TZID=America/New_York:20250408T200000
LOCATION:Virtual! Zoom link provided upon registration.
SUMMARY:SPARK Movie Screening and Q&A (Virtual)
END:VEVENT
END:VCALENDAR
