BEGIN:VCALENDAR
VERSION:2.0
PRODID:-//www.insightmcc.org//NONSGML kigkonsult.se iCalcreator 2.30.10//
CALSCALE:GREGORIAN
METHOD:PUBLISH
UID:e13b1206-d628-4e7a-b84b-719189d4aaa6
X-WR-CALDESC:Gather with friends for a brunch experience that feels good an
 d tastes even better!\n\nMeet Me: Community Outings are free\, and give fa
 milies living with mild cognitive impairment (MCI) or early stage memory l
 oss an opportunity to connect and stay engaged in the community\, in a saf
 e and supportive way. Outings are designed for both the diagnosed individu
 al and a care partner or friend to participate together\, and meet new fri
 ends in the process!\n\n&nbsp\;\n<strong><a href='https://insightmemory.ap
 p.neoncrm.com/eventReg.jsp?event=2258&' target='_blank' class='button' rel
 ='noreferrer noopener'>Sign Me Up!</a></strong>
X-WR-RELCALID:4c65418cd718bd1ae12a6327e793b7d3
X-WR-TIMEZONE:America/New_York
BEGIN:VTIMEZONE
TZID:America/New_York
BEGIN:STANDARD
TZNAME:EST
DTSTART:20241103T020000
TZOFFSETFROM:-0400
TZOFFSETTO:-0500
RDATE:20251102T020000
END:STANDARD
BEGIN:DAYLIGHT
TZNAME:EDT
DTSTART:20250309T020000
TZOFFSETFROM:-0500
TZOFFSETTO:-0400
RDATE:20260308T020000
END:DAYLIGHT
END:VTIMEZONE
BEGIN:VEVENT
UID:adbf76da-a16c-4a8b-8f92-f4e039a17a26
DTSTAMP:20260422T033408Z
DESCRIPTION:Gather with friends for a brunch experience that feels good and
  tastes even better!\n\nMeet Me: Community Outings are free\, and give fam
 ilies living with mild cognitive impairment (MCI) or early stage memory lo
 ss an opportunity to connect and stay engaged in the community\, in a safe
  and supportive way. Outings are designed for both the diagnosed individua
 l and a care partner or friend to participate together\, and meet new frie
 nds in the process!\n\n&nbsp\;\n<strong><a href='https://insightmemory.app
 .neoncrm.com/eventReg.jsp?event=2258&' target='_blank' class='button' rel=
 'noreferrer noopener'>Sign Me Up!</a></strong>
DTSTART;TZID=America/New_York:20250409T100000
DTEND;TZID=America/New_York:20250409T113000
LOCATION:First Watch Fairfax\, 9600 Main St Suite S\, Fairfax\, VA 22031 US
SUMMARY:Meet Me: At First Watch Fairfax
END:VEVENT
END:VCALENDAR
