BEGIN:VCALENDAR
VERSION:2.0
PRODID:-//www.insightmcc.org//NONSGML kigkonsult.se iCalcreator 2.30.10//
CALSCALE:GREGORIAN
METHOD:PUBLISH
UID:af7985b0-bb90-4372-b457-f2ae828a2a69
X-WR-CALDESC:Learn more about age-related changes in memory and learning\, 
 and practices to keep your brain sharp! Learn what to expect\, what’s “nor
 mal\,” and when it’s time to seek a doctor’s input.\n\nThis class is prese
 nted by the Insight team at the Little River Glen Senior Center\, please R
 SVP with the contact listed below!\n\n
X-WR-RELCALID:d726b0bb711186f41312f2b983b6846a
X-WR-TIMEZONE:America/New_York
BEGIN:VTIMEZONE
TZID:America/New_York
BEGIN:STANDARD
TZNAME:EST
DTSTART:20241103T020000
TZOFFSETFROM:-0400
TZOFFSETTO:-0500
RDATE:20251102T020000
END:STANDARD
BEGIN:DAYLIGHT
TZNAME:EDT
DTSTART:20250309T020000
TZOFFSETFROM:-0500
TZOFFSETTO:-0400
RDATE:20260308T020000
END:DAYLIGHT
END:VTIMEZONE
BEGIN:VEVENT
UID:ba13205b-b140-41f7-804d-e8e06fa66f88
DTSTAMP:20260422T033453Z
DESCRIPTION:Learn more about age-related changes in memory and learning\, a
 nd practices to keep your brain sharp! Learn what to expect\, what’s “norm
 al\,” and when it’s time to seek a doctor’s input.\n\nThis class is presen
 ted by the Insight team at the Little River Glen Senior Center\, please RS
 VP with the contact listed below!\n\n
DTSTART;TZID=America/New_York:20250415T124500
DTEND;TZID=America/New_York:20250415T134500
LOCATION:Little River Glen Senior Center\,  4001 Barker Ct\, Fairfax\, VA 2
 2032 US
SUMMARY:Better Brain Health as You Age
END:VEVENT
END:VCALENDAR
