BEGIN:VCALENDAR
VERSION:2.0
PRODID:-//www.insightmcc.org//NONSGML kigkonsult.se iCalcreator 2.30.10//
CALSCALE:GREGORIAN
METHOD:PUBLISH
UID:c276a5fe-1d8f-4622-8a91-db3d28971c97
X-WR-CALDESC:This group is specifically designed for individuals who have r
 eceived a recent diagnosis of mild cognitive impairment (MCI) or who are i
 n the early stages of memory loss. Get to know others who are in a similar
  situation\, learn more about your diagnosis\, and have the opportunity to
  share personal concerns and successes.\n\nThis group meets at Insight - F
 airfax on the third Wednesday. All support groups are free and open to the
  public. Please register and you'll receive reminders to join us!\n\n&nbsp
 \;\n<strong><a href='https://insightmemory.app.neoncrm.com/eventReg.jsp?ev
 ent=1714&' target='_blank' class='button' rel='noreferrer noopener'>Sign M
 e Up!</a></strong>
X-WR-RELCALID:22432b874e8fad73bb2928dee3127f4f
X-WR-TIMEZONE:America/New_York
BEGIN:VTIMEZONE
TZID:America/New_York
BEGIN:STANDARD
TZNAME:EST
DTSTART:20241103T020000
TZOFFSETFROM:-0400
TZOFFSETTO:-0500
RDATE:20251102T020000
END:STANDARD
BEGIN:DAYLIGHT
TZNAME:EDT
DTSTART:20250309T020000
TZOFFSETFROM:-0500
TZOFFSETTO:-0400
RDATE:20260308T020000
END:DAYLIGHT
END:VTIMEZONE
BEGIN:VEVENT
UID:bf9a3b5a-ded2-4ea6-aaa5-a34064155ce5
DTSTAMP:20260422T033057Z
DESCRIPTION:This group is specifically designed for individuals who have re
 ceived a recent diagnosis of mild cognitive impairment (MCI) or who are in
  the early stages of memory loss. Get to know others who are in a similar 
 situation\, learn more about your diagnosis\, and have the opportunity to 
 share personal concerns and successes.\n\nThis group meets at Insight - Fa
 irfax on the third Wednesday. All support groups are free and open to the 
 public. Please register and you'll receive reminders to join us!\n\n&nbsp\
 ;\n<strong><a href='https://insightmemory.app.neoncrm.com/eventReg.jsp?eve
 nt=1714&' target='_blank' class='button' rel='noreferrer noopener'>Sign Me
  Up!</a></strong>
DTSTART;TZID=America/New_York:20250416T123000
DTEND;TZID=America/New_York:20250416T133000
LOCATION:Insight Memory Care Center\, 3955 Pender Drive\, Suite 100\, Fairf
 ax\, VA 22030 US
SUMMARY:MCI Support Group
END:VEVENT
END:VCALENDAR
