BEGIN:VCALENDAR
VERSION:2.0
PRODID:-//www.insightmcc.org//NONSGML kigkonsult.se iCalcreator 2.30.10//
CALSCALE:GREGORIAN
METHOD:PUBLISH
UID:dd0e0806-26db-4cc4-98d1-b7d18eb66504
X-WR-CALDESC:Join Insight for a free\, Saturday morning training event cove
 ring many essential caregiving topics!\n\n9:00 am - 10:00 am\nQuestions fo
 r the Neurologist\nDr. Jennifer Pauldurai\, MD\nINOVA Neurology\nIt’s impo
 rtant to gather as much information from your doctor as you can. Asking th
 e right questions can help you navigate your appointments and this journey
 .\n\n10:00 am - 11:00 Am\nWhat is an Aging Life Care Manager?\nLisa Bagby\
 , OTD\, OTR/L\, MHA \nIndependent You\, Senior Services\nWe will learn abo
 ut the role of an Aging Life Care Manager and how they support older adult
 s and their families in navigating the complexities of aging. \n\n11:00 am
  - 12:00 Pm\nCreating a Dementia Friendly Home\nJacqueline S. Green OTR/L 
 \nBal Therapy\, LLC\nWe will explore how making simple changes to your hom
 e can help a person with dementia maintain independence\, stay safe\, and 
 continue enjoying their routines and activities.\n\n*** Respite care avail
 able*** Please contact Melissa at: melissa.long@insightmcc.org by April 12
 \, 2025 to request respite care for this event.\n\n&nbsp\;\n<strong><a hre
 f='https://insightmemory.app.neoncrm.com/eventReg.jsp?event=2359&' target=
 '_blank' class='button' rel='noreferrer noopener'>Sign Me Up!</a></strong>
X-WR-RELCALID:7520fe903c8f1df5d81fb9a33f9c64a3
X-WR-TIMEZONE:America/New_York
BEGIN:VTIMEZONE
TZID:America/New_York
BEGIN:STANDARD
TZNAME:EST
DTSTART:20241103T020000
TZOFFSETFROM:-0400
TZOFFSETTO:-0500
RDATE:20251102T020000
END:STANDARD
BEGIN:DAYLIGHT
TZNAME:EDT
DTSTART:20250309T020000
TZOFFSETFROM:-0500
TZOFFSETTO:-0400
RDATE:20260308T020000
END:DAYLIGHT
END:VTIMEZONE
BEGIN:VEVENT
UID:08e8d5cd-73c9-484c-8ffb-e67e580f4471
DTSTAMP:20260420T152512Z
DESCRIPTION:Join Insight for a free\, Saturday morning training event cover
 ing many essential caregiving topics!\n\n9:00 am - 10:00 am\nQuestions for
  the Neurologist\nDr. Jennifer Pauldurai\, MD\nINOVA Neurology\nIt’s impor
 tant to gather as much information from your doctor as you can. Asking the
  right questions can help you navigate your appointments and this journey.
 \n\n10:00 am - 11:00 Am\nWhat is an Aging Life Care Manager?\nLisa Bagby\,
  OTD\, OTR/L\, MHA \nIndependent You\, Senior Services\nWe will learn abou
 t the role of an Aging Life Care Manager and how they support older adults
  and their families in navigating the complexities of aging. \n\n11:00 am 
 - 12:00 Pm\nCreating a Dementia Friendly Home\nJacqueline S. Green OTR/L 
 \nBal Therapy\, LLC\nWe will explore how making simple changes to your hom
 e can help a person with dementia maintain independence\, stay safe\, and 
 continue enjoying their routines and activities.\n\n*** Respite care avail
 able*** Please contact Melissa at: melissa.long@insightmcc.org by April 12
 \, 2025 to request respite care for this event.\n\n&nbsp\;\n<strong><a hre
 f='https://insightmemory.app.neoncrm.com/eventReg.jsp?event=2359&' target=
 '_blank' class='button' rel='noreferrer noopener'>Sign Me Up!</a></strong>
DTSTART;TZID=America/New_York:20250419T090000
DTEND;TZID=America/New_York:20250419T120000
LOCATION:Insight Memory Care Center - Fairfax \, 3955 Pender Drive\, Suite 
 100\, Fairfax\, VA 22030 US
SUMMARY:Caregiver Bootcamp
END:VEVENT
END:VCALENDAR
