BEGIN:VCALENDAR
VERSION:2.0
PRODID:-//www.insightmcc.org//NONSGML kigkonsult.se iCalcreator 2.30.10//
CALSCALE:GREGORIAN
METHOD:PUBLISH
UID:5fed10cc-d0fc-4972-8fd8-553033473031
X-WR-CALDESC:You are invited to Insight in Action\, an overview and tour\, 
 to see firsthand the work we are doing. Events are offered on the third Th
 ursday of the month in Fairfax and the 4th Wednesday of the month in Sterl
 ing. \n\nCome and see our programs in action\, meet the staff\, and learn 
 more about resources available!\n\n&nbsp\;\n<strong><a href='https://insig
 htmemory.app.neoncrm.com/eventReg.jsp?event=2374&' target='_blank' class='
 button' rel='noreferrer noopener'>Sign Me Up!</a></strong>
X-WR-RELCALID:3a1ede43080a516e0d75ba944ef9dadc
X-WR-TIMEZONE:America/New_York
BEGIN:VTIMEZONE
TZID:America/New_York
BEGIN:STANDARD
TZNAME:EST
DTSTART:20241103T020000
TZOFFSETFROM:-0400
TZOFFSETTO:-0500
RDATE:20251102T020000
END:STANDARD
BEGIN:DAYLIGHT
TZNAME:EDT
DTSTART:20250309T020000
TZOFFSETFROM:-0500
TZOFFSETTO:-0400
RDATE:20260308T020000
END:DAYLIGHT
END:VTIMEZONE
BEGIN:VEVENT
UID:9137defb-5385-4061-a903-70c48e52dcd6
DTSTAMP:20260420T183931Z
DESCRIPTION:You are invited to Insight in Action\, an overview and tour\, t
 o see firsthand the work we are doing. Events are offered on the third Thu
 rsday of the month in Fairfax and the 4th Wednesday of the month in Sterli
 ng. \n\nCome and see our programs in action\, meet the staff\, and learn m
 ore about resources available!\n\n&nbsp\;\n<strong><a href='https://insigh
 tmemory.app.neoncrm.com/eventReg.jsp?event=2374&' target='_blank' class='b
 utton' rel='noreferrer noopener'>Sign Me Up!</a></strong>
DTSTART;TZID=America/New_York:20250423T140000
DTEND;TZID=America/New_York:20250423T144500
LOCATION:Insight Memory Care Center - Sterling\, 45945 Center Oak Plaza\, S
 uite 190\, Sterling\, AL 20166 US
SUMMARY:Insight in Action - Sterling
END:VEVENT
END:VCALENDAR
