BEGIN:VCALENDAR
VERSION:2.0
PRODID:-//www.insightmcc.org//NONSGML kigkonsult.se iCalcreator 2.30.10//
CALSCALE:GREGORIAN
METHOD:PUBLISH
UID:8011a833-c0a0-4d8d-9e45-a6d04b7557f8
X-WR-CALDESC:In this 60-minute presentation from Dawn Jefferson\, Education
  and Support Coordinator at Insight\, you’ll learn how to use a Person-Cen
 tered Care approach to more meaningfully engage with your loved one. This 
 compassionate method of care honors the unique preferences\, needs\, and v
 alues of the individual\, aiming to maintain—and even restore—their sense 
 of identity and dignity.\n\nDiscover how creating a supportive psychologic
 al\, social\, and physical environment can enhance quality of life and str
 engthen your connection with the person you care for. \n\nPlease reach out
  to Dawn to RSVP - Dawn.Jefferson@InsightMCC.org
X-WR-RELCALID:ca8ed6ff045edbc00b9db0c8d374a7e1
X-WR-TIMEZONE:America/New_York
BEGIN:VTIMEZONE
TZID:America/New_York
BEGIN:STANDARD
TZNAME:EST
DTSTART:20241103T020000
TZOFFSETFROM:-0400
TZOFFSETTO:-0500
RDATE:20251102T020000
END:STANDARD
BEGIN:DAYLIGHT
TZNAME:EDT
DTSTART:20250309T020000
TZOFFSETFROM:-0500
TZOFFSETTO:-0400
RDATE:20260308T020000
END:DAYLIGHT
END:VTIMEZONE
BEGIN:VEVENT
UID:4ee82968-fd40-4f17-b629-aba3bf0ffd63
DTSTAMP:20260422T033817Z
DESCRIPTION:In this 60-minute presentation from Dawn Jefferson\, Education 
 and Support Coordinator at Insight\, you’ll learn how to use a Person-Cent
 ered Care approach to more meaningfully engage with your loved one. This c
 ompassionate method of care honors the unique preferences\, needs\, and va
 lues of the individual\, aiming to maintain—and even restore—their sense o
 f identity and dignity.\n\nDiscover how creating a supportive psychologica
 l\, social\, and physical environment can enhance quality of life and stre
 ngthen your connection with the person you care for. \n\nPlease reach out 
 to Dawn to RSVP - Dawn.Jefferson@InsightMCC.org
DTSTART;TZID=America/New_York:20250423T110000
DTEND;TZID=America/New_York:20250423T120000
LOCATION:Lansdowne Heights\, 19520 Sandridge Way\, Leesburg\, VA 20176 US
SUMMARY:Connecting with Your Loved One on the Dementia Journey
END:VEVENT
END:VCALENDAR
