BEGIN:VCALENDAR
VERSION:2.0
PRODID:-//www.insightmcc.org//NONSGML kigkonsult.se iCalcreator 2.30.10//
CALSCALE:GREGORIAN
METHOD:PUBLISH
UID:207d3025-3107-4fca-af6a-33e40e87d3cc
X-WR-CALDESC:Learn more about age-related changes in memory and learning\, 
 and practices to keep your brain sharp! Learn what to expect\, what’s “nor
 mal\,” and when it’s time to seek a doctor’s input.\n\nThis class is prese
 nted by the Insight team at the Senior Center of Leesburg.\n\n
X-WR-RELCALID:023756f6f7dac77eca616fc4b804bc2f
X-WR-TIMEZONE:America/New_York
BEGIN:VTIMEZONE
TZID:America/New_York
BEGIN:STANDARD
TZNAME:EST
DTSTART:20241103T020000
TZOFFSETFROM:-0400
TZOFFSETTO:-0500
RDATE:20251102T020000
END:STANDARD
BEGIN:DAYLIGHT
TZNAME:EDT
DTSTART:20250309T020000
TZOFFSETFROM:-0500
TZOFFSETTO:-0400
RDATE:20260308T020000
END:DAYLIGHT
END:VTIMEZONE
BEGIN:VEVENT
UID:73adf325-9d49-4703-ab7b-23148c92bdcd
DTSTAMP:20260422T033407Z
DESCRIPTION:Learn more about age-related changes in memory and learning\, a
 nd practices to keep your brain sharp! Learn what to expect\, what’s “norm
 al\,” and when it’s time to seek a doctor’s input.\n\nThis class is presen
 ted by the Insight team at the Senior Center of Leesburg.\n\n
DTSTART;TZID=America/New_York:20250428T124500
DTEND;TZID=America/New_York:20250428T134500
LOCATION:Senior Center of Leesburg\, 102 N St NW Ste B\, Leesburg\, VA 2017
 6 US
SUMMARY:Better Brain Health as You Age
END:VEVENT
END:VCALENDAR
