BEGIN:VCALENDAR
VERSION:2.0
PRODID:-//www.insightmcc.org//NONSGML kigkonsult.se iCalcreator 2.30.10//
CALSCALE:GREGORIAN
METHOD:PUBLISH
UID:abb19ac1-8669-4df8-a002-3e03b5525276
X-WR-CALDESC:While at the farm\, participants will have the opportunity to 
 meet Cloverleaf's horses\, each with their own unique story. Together\, we
  will explore the joys of grooming\, feeding\, and caring for these magnif
 icent animals in a supportive\, inclusive environment. Through hands-on ac
 tivities and meaningful interactions\, participants will not only experien
 ce the therapeutic benefits of being with horses but also create lasting m
 emories and friendships. We will then share in a picnic lunch from 12:30 -
  1:30!\n\nMeet Me: Community Outings are free\, and give families living w
 ith mild cognitive impairment (MCI) or early stage memory loss an opportun
 ity to connect and stay engaged in the community\, in a safe and supportiv
 e way. Outings are designed for both the diagnosed individual and a care p
 artner or friend to participate together\, and meet new friends in the pro
 cess!\n\n&nbsp\;\n<strong><a href='https://insightmemory.app.neoncrm.com/e
 ventReg.jsp?event=2274&' target='_blank' class='button' rel='noreferrer no
 opener'>Sign Me Up!</a></strong>
X-WR-RELCALID:38f0adac5da6ada266a32e03d720d342
X-WR-TIMEZONE:America/New_York
BEGIN:VTIMEZONE
TZID:America/New_York
BEGIN:STANDARD
TZNAME:EST
DTSTART:20241103T020000
TZOFFSETFROM:-0400
TZOFFSETTO:-0500
RDATE:20251102T020000
END:STANDARD
BEGIN:DAYLIGHT
TZNAME:EDT
DTSTART:20250309T020000
TZOFFSETFROM:-0500
TZOFFSETTO:-0400
RDATE:20260308T020000
END:DAYLIGHT
END:VTIMEZONE
BEGIN:VEVENT
UID:07cef225-ec7a-426c-823c-a8c4044e19ff
DTSTAMP:20260422T033555Z
DESCRIPTION:While at the farm\, participants will have the opportunity to m
 eet Cloverleaf's horses\, each with their own unique story. Together\, we 
 will explore the joys of grooming\, feeding\, and caring for these magnifi
 cent animals in a supportive\, inclusive environment. Through hands-on act
 ivities and meaningful interactions\, participants will not only experienc
 e the therapeutic benefits of being with horses but also create lasting me
 mories and friendships. We will then share in a picnic lunch from 12:30 - 
 1:30!\n\nMeet Me: Community Outings are free\, and give families living wi
 th mild cognitive impairment (MCI) or early stage memory loss an opportuni
 ty to connect and stay engaged in the community\, in a safe and supportive
  way. Outings are designed for both the diagnosed individual and a care pa
 rtner or friend to participate together\, and meet new friends in the proc
 ess!\n\n&nbsp\;\n<strong><a href='https://insightmemory.app.neoncrm.com/ev
 entReg.jsp?event=2274&' target='_blank' class='button' rel='noreferrer noo
 pener'>Sign Me Up!</a></strong>
DTSTART;TZID=America/New_York:20250429T110000
DTEND;TZID=America/New_York:20250429T133000
LOCATION:Cloverleaf Equine Center\, 12933 Popes Head Road\, Clifton\, VA 20
 124 US
SUMMARY:Meet Me: At Cloverleaf Equine Center
END:VEVENT
END:VCALENDAR
