BEGIN:VCALENDAR
VERSION:2.0
PRODID:-//www.insightmcc.org//NONSGML kigkonsult.se iCalcreator 2.30.10//
CALSCALE:GREGORIAN
METHOD:PUBLISH
UID:c3073d4e-5e19-4cf0-8abe-8f4e99d3623d
X-WR-CALDESC:A discussion on changes that occur with age\, warning signs of
  a memory problem\, and what to do if someone you love is experiencing sym
 ptoms.\n\nThis event is presented by the Insight Memory Care Center Educat
 ion team at Senior Center at Cascades.\n\n
X-WR-RELCALID:9802526df9ace70b8ae8907e30cf3847
X-WR-TIMEZONE:America/New_York
BEGIN:VTIMEZONE
TZID:America/New_York
BEGIN:STANDARD
TZNAME:EST
DTSTART:20241103T020000
TZOFFSETFROM:-0400
TZOFFSETTO:-0500
RDATE:20251102T020000
END:STANDARD
BEGIN:DAYLIGHT
TZNAME:EDT
DTSTART:20250309T020000
TZOFFSETFROM:-0500
TZOFFSETTO:-0400
RDATE:20260308T020000
END:DAYLIGHT
END:VTIMEZONE
BEGIN:VEVENT
UID:992907ff-38cf-45f3-97e1-f2ecce112dfb
DTSTAMP:20260420T073744Z
DESCRIPTION:A discussion on changes that occur with age\, warning signs of 
 a memory problem\, and what to do if someone you love is experiencing symp
 toms.\n\nThis event is presented by the Insight Memory Care Center Educati
 on team at Senior Center at Cascades.\n\n
DTSTART;TZID=America/New_York:20250430T100000
DTEND;TZID=America/New_York:20250430T110000
LOCATION:Senior Center at Cascades\, 21060 Whitfield Place\, Sterling\, VA 
 20165 US
SUMMARY:Normal Aging vs. Dementia
END:VEVENT
END:VCALENDAR
