BEGIN:VCALENDAR
VERSION:2.0
PRODID:-//www.insightmcc.org//NONSGML kigkonsult.se iCalcreator 2.30.10//
CALSCALE:GREGORIAN
METHOD:PUBLISH
UID:c10389da-4f7a-49a2-ba31-5864b75c3e58
X-WR-CALDESC:Join us for a fun afternoon of strikes\, spares\, and socializ
 ing at Bowl America!\n\nMeet Me: Community Outings are free\, and give fam
 ilies living with mild cognitive impairment (MCI) or early stage memory lo
 ss an opportunity to connect and stay engaged in the community\, in a safe
  and supportive way. Outings are designed for both the diagnosed individua
 l and a care partner or friend to participate together\, and meet new frie
 nds in the process!\n\n\n&nbsp\;\n<strong><a href='https://insightmemory.a
 pp.neoncrm.com/eventReg.jsp?event=2279&' target='_blank' class='button' re
 l='noreferrer noopener'>Sign Me Up!</a></strong>\n\n
X-WR-RELCALID:19ed03e99474cd7b7e2d9532465ea509
X-WR-TIMEZONE:America/New_York
BEGIN:VTIMEZONE
TZID:America/New_York
BEGIN:STANDARD
TZNAME:EST
DTSTART:20241103T020000
TZOFFSETFROM:-0400
TZOFFSETTO:-0500
RDATE:20251102T020000
RDATE:20261101T020000
END:STANDARD
BEGIN:DAYLIGHT
TZNAME:EDT
DTSTART:20250309T020000
TZOFFSETFROM:-0500
TZOFFSETTO:-0400
RDATE:20260308T020000
END:DAYLIGHT
END:VTIMEZONE
BEGIN:VEVENT
UID:4faca4f9-383f-498f-993d-39d28a0676f6
DTSTAMP:20260422T050916Z
DESCRIPTION:Join us for a fun afternoon of strikes\, spares\, and socializi
 ng at Bowl America!\n\nMeet Me: Community Outings are free\, and give fami
 lies living with mild cognitive impairment (MCI) or early stage memory los
 s an opportunity to connect and stay engaged in the community\, in a safe 
 and supportive way. Outings are designed for both the diagnosed individual
  and a care partner or friend to participate together\, and meet new frien
 ds in the process!\n\n\n&nbsp\;\n<strong><a href='https://insightmemory.ap
 p.neoncrm.com/eventReg.jsp?event=2279&' target='_blank' class='button' rel
 ='noreferrer noopener'>Sign Me Up!</a></strong>\n\n
DTSTART;TZID=America/New_York:20250508T120000
DTEND;TZID=America/New_York:20250508T140000
LOCATION:Bowl America - Falls Church\, 140 S Maple Ave.\, Falls Church\, VA
  22046 US
SUMMARY:Meet Me: At Bowl America Falls Church
END:VEVENT
END:VCALENDAR
