BEGIN:VCALENDAR
VERSION:2.0
PRODID:-//www.insightmcc.org//NONSGML kigkonsult.se iCalcreator 2.30.10//
CALSCALE:GREGORIAN
METHOD:PUBLISH
UID:6f47aaa8-be3a-4e27-b72d-bfd7a417022f
X-WR-CALDESC:Learn more about age-related changes in memory and learning\, 
 and practices to keep your brain sharp! Learn what to expect\, what’s “nor
 mal\,” and when it’s time to seek a doctor’s input.\n\nThis class is prese
 nted by the Insight team at the Reston Community Center\, please RSVP with
  the contact listed below!
X-WR-RELCALID:d71cb86c501f63219be3cbc5d59996f5
X-WR-TIMEZONE:America/New_York
BEGIN:VTIMEZONE
TZID:America/New_York
BEGIN:STANDARD
TZNAME:EST
DTSTART:20241103T020000
TZOFFSETFROM:-0400
TZOFFSETTO:-0500
RDATE:20251102T020000
RDATE:20261101T020000
END:STANDARD
BEGIN:DAYLIGHT
TZNAME:EDT
DTSTART:20250309T020000
TZOFFSETFROM:-0500
TZOFFSETTO:-0400
RDATE:20260308T020000
END:DAYLIGHT
END:VTIMEZONE
BEGIN:VEVENT
UID:efbf589b-4f21-44cc-8bfe-ddadce4b732c
DTSTAMP:20260419T134142Z
DESCRIPTION:Learn more about age-related changes in memory and learning\, a
 nd practices to keep your brain sharp! Learn what to expect\, what’s “norm
 al\,” and when it’s time to seek a doctor’s input.\n\nThis class is presen
 ted by the Insight team at the Reston Community Center\, please RSVP with 
 the contact listed below!
DTSTART;TZID=America/New_York:20250513T130000
DTEND;TZID=America/New_York:20250513T140000
LOCATION:Reston Community Center\, 2310 Colts Neck Road\, Reston\, VA 20191
  US
SUMMARY:Better Brain Health as You Age
END:VEVENT
END:VCALENDAR
