BEGIN:VCALENDAR
VERSION:2.0
PRODID:-//www.insightmcc.org//NONSGML kigkonsult.se iCalcreator 2.30.10//
CALSCALE:GREGORIAN
METHOD:PUBLISH
UID:9e6e4fdd-0a50-41b3-aa5d-ea452009004a
X-WR-CALDESC:Dementia Capable Care (DCC) is an evidence-based dementia and 
 behavior training program designed for health care workers that makes a su
 stainable impact.\n\nEarners can apply specialized approaches using Dement
 ia Care Specialists at Crisis Prevention Institute’s (CPI) Dementia Capabl
 e Care Model to: \n(a) optimize function\, safety\, and quality of life th
 rough person-centered and cognitively supportive approaches using Allen Co
 gnitive Levels and Model\n(b) apply CPI’s Crisis Development Model℠ to pre
 vent and de-escalate distress behaviors and\n(c) support families. \n\nEar
 ners of this designation are leaders in a dementia capable workforce and a
 dvocates of a Dementia Capable Society.\n\nCost is $200 per person. \n\n<b
 >This course is a hybrid format. Learners will complete a 4 hour online cl
 ass prior to the in person class. After you complete this registration you
  will receive an email from crisisprevention.com to start the online class
 .</b>\n\nIn person portion details: May 14\, 2025 1:00pm - 5:30pm at The T
 rillium Tysons - 1620 Boro Pl\, Tysons\, VA 22102\n\n&nbsp\;\n<strong><a h
 ref='https://insightmemory.app.neoncrm.com/eventReg.jsp?event=2238&' targe
 t='_blank' class='button' rel='noreferrer noopener'>Sign Me Up!</a></stron
 g>
X-WR-RELCALID:077d54b7f560d4235306fec475801684
X-WR-TIMEZONE:America/New_York
BEGIN:VTIMEZONE
TZID:America/New_York
BEGIN:STANDARD
TZNAME:EST
DTSTART:20241103T020000
TZOFFSETFROM:-0400
TZOFFSETTO:-0500
RDATE:20251102T020000
RDATE:20261101T020000
END:STANDARD
BEGIN:DAYLIGHT
TZNAME:EDT
DTSTART:20250309T020000
TZOFFSETFROM:-0500
TZOFFSETTO:-0400
RDATE:20260308T020000
END:DAYLIGHT
END:VTIMEZONE
BEGIN:VEVENT
UID:a1f0a922-8dda-4283-b884-6e635e1cc4b0
DTSTAMP:20260421T235443Z
DESCRIPTION:Dementia Capable Care (DCC) is an evidence-based dementia and b
 ehavior training program designed for health care workers that makes a sus
 tainable impact.\n\nEarners can apply specialized approaches using Dementi
 a Care Specialists at Crisis Prevention Institute’s (CPI) Dementia Capable
  Care Model to: \n(a) optimize function\, safety\, and quality of life thr
 ough person-centered and cognitively supportive approaches using Allen Cog
 nitive Levels and Model\n(b) apply CPI’s Crisis Development Model℠ to prev
 ent and de-escalate distress behaviors and\n(c) support families. \n\nEarn
 ers of this designation are leaders in a dementia capable workforce and ad
 vocates of a Dementia Capable Society.\n\nCost is $200 per person. \n\n<b>
 This course is a hybrid format. Learners will complete a 4 hour online cla
 ss prior to the in person class. After you complete this registration you 
 will receive an email from crisisprevention.com to start the online class.
 </b>\n\nIn person portion details: May 14\, 2025 1:00pm - 5:30pm at The Tr
 illium Tysons - 1620 Boro Pl\, Tysons\, VA 22102\n\n&nbsp\;\n<strong><a hr
 ef='https://insightmemory.app.neoncrm.com/eventReg.jsp?event=2238&' target
 ='_blank' class='button' rel='noreferrer noopener'>Sign Me Up!</a></strong
 >
DTSTART;TZID=America/New_York:20250514T130000
DTEND;TZID=America/New_York:20250514T173000
LOCATION:The Trillium Tysons\, 1620 Boro Pl\, Tysons\, VA 22102 US
SUMMARY:Dementia Capable Care Specialist (DCC) Training
END:VEVENT
END:VCALENDAR
