BEGIN:VCALENDAR
VERSION:2.0
PRODID:-//www.insightmcc.org//NONSGML kigkonsult.se iCalcreator 2.30.10//
CALSCALE:GREGORIAN
METHOD:PUBLISH
UID:da5b78d1-442b-4a2f-bd4a-6c6086ef179e
X-WR-CALDESC:This Care Partner Training will explore the critical relations
 hip between mental health and dementia in older adults. It delves into how
  conditions like depression\, anxiety\, and stress can influence the onset
  and progression of dementia. We will will learn about the challenges in d
 ifferentiating between mental health issues and dementia symptoms\, and th
 e importance of comprehensive evaluation in making accurate diagnoses. We 
 will also highlight strategies for improving the well-being of older adult
 s by addressing mental health concerns and offering early intervention tec
 hniques\, fostering a holistic approach to dementia care.\n\n<b>This class
  will be held both virtually and in-person in Fairfax. Please select your 
 attendance type when you register.</b>\n\nThe in-person session will be he
 ld in the Mazawey Education and Support Center\, 3955 Pender Drive\, Suite
  100\, Fairfax\, VA 22030.\n\nVirtual attendees will receive Zoom informat
 ion prior to the class.\n\nThis program is a part of our monthly Care Part
 ner Training series. All sessions are FREE\, and held the second Wednesday
  of each month from 1:00 to 2:30 pm.\n\n\n&nbsp\;\n<strong><a href='https:
 //insightmemory.app.neoncrm.com/eventReg.jsp?event=2158&' class='button'>S
 ign Me Up - In Person</a></strong>\n\n<strong><a href='https://insightmemo
 ry.app.neoncrm.com/eventReg.jsp?event=2153&' class='button'>Sign Me Up - V
 irtual</a></strong>\n\n\n<b>Presenter</b>\n<i>Dr. Emmi Scott\, PhD</i>\n\n
 Dr. Emmi Scott is a fellowship-trained clinical neuropsychologist with spe
 cialization in neurodegenerative diseases\, particularly memory disorders 
 and movement disorders at Inova. Prior to joining Inova\, she practiced as
  an assistant professor of neurology at the Medical University of South Ca
 rolina in Charleston.\n\nAs a neuropsychologist\, Dr. Scott sees adult pat
 ients who have concerns about memory loss or cognitive changes\, as well a
 s those with established neurodegenerative or neurological conditions. In 
 addition to her expertise in cognitive disorders\, Dr. Scott has a weekly 
 clinic for individuals with functional neurological disorders\, including 
 functional movement disorders and nonepileptic seizures\, where she offers
  consultation and treatment services.\n
X-WR-RELCALID:c00073234a6ab7f4862aa095e858de4f
X-WR-TIMEZONE:America/New_York
BEGIN:VTIMEZONE
TZID:America/New_York
BEGIN:STANDARD
TZNAME:EST
DTSTART:20241103T020000
TZOFFSETFROM:-0400
TZOFFSETTO:-0500
RDATE:20251102T020000
RDATE:20261101T020000
END:STANDARD
BEGIN:DAYLIGHT
TZNAME:EDT
DTSTART:20250309T020000
TZOFFSETFROM:-0500
TZOFFSETTO:-0400
RDATE:20260308T020000
END:DAYLIGHT
END:VTIMEZONE
BEGIN:VEVENT
UID:7ba49a9b-41f6-4e7a-903b-93c7f70c3216
DTSTAMP:20260420T071821Z
DESCRIPTION:This Care Partner Training will explore the critical relationsh
 ip between mental health and dementia in older adults. It delves into how 
 conditions like depression\, anxiety\, and stress can influence the onset 
 and progression of dementia. We will will learn about the challenges in di
 fferentiating between mental health issues and dementia symptoms\, and the
  importance of comprehensive evaluation in making accurate diagnoses. We w
 ill also highlight strategies for improving the well-being of older adults
  by addressing mental health concerns and offering early intervention tech
 niques\, fostering a holistic approach to dementia care.\n\n<b>This class 
 will be held both virtually and in-person in Fairfax. Please select your a
 ttendance type when you register.</b>\n\nThe in-person session will be hel
 d in the Mazawey Education and Support Center\, 3955 Pender Drive\, Suite 
 100\, Fairfax\, VA 22030.\n\nVirtual attendees will receive Zoom informati
 on prior to the class.\n\nThis program is a part of our monthly Care Partn
 er Training series. All sessions are FREE\, and held the second Wednesday 
 of each month from 1:00 to 2:30 pm.\n\n\n&nbsp\;\n<strong><a href='https:/
 /insightmemory.app.neoncrm.com/eventReg.jsp?event=2158&' class='button'>Si
 gn Me Up - In Person</a></strong>\n\n<strong><a href='https://insightmemor
 y.app.neoncrm.com/eventReg.jsp?event=2153&' class='button'>Sign Me Up - Vi
 rtual</a></strong>\n\n\n<b>Presenter</b>\n<i>Dr. Emmi Scott\, PhD</i>\n\nD
 r. Emmi Scott is a fellowship-trained clinical neuropsychologist with spec
 ialization in neurodegenerative diseases\, particularly memory disorders a
 nd movement disorders at Inova. Prior to joining Inova\, she practiced as 
 an assistant professor of neurology at the Medical University of South Car
 olina in Charleston.\n\nAs a neuropsychologist\, Dr. Scott sees adult pati
 ents who have concerns about memory loss or cognitive changes\, as well as
  those with established neurodegenerative or neurological conditions. In a
 ddition to her expertise in cognitive disorders\, Dr. Scott has a weekly c
 linic for individuals with functional neurological disorders\, including f
 unctional movement disorders and nonepileptic seizures\, where she offers 
 consultation and treatment services.\n
DTSTART;TZID=America/New_York:20250514T130000
DTEND;TZID=America/New_York:20250514T143000
LOCATION:Hybrid! Virtual and in-person at Insight Memory Care Center - Fair
 fax
SUMMARY:Mental Health and Dementia in Older Adults
END:VEVENT
END:VCALENDAR
