BEGIN:VCALENDAR
VERSION:2.0
PRODID:-//www.insightmcc.org//NONSGML kigkonsult.se iCalcreator 2.30.10//
CALSCALE:GREGORIAN
METHOD:PUBLISH
UID:c2b80815-cb35-4240-9652-8c751cc247f5
X-WR-CALDESC:<b>Join the Friends of Insight as we enjoy some wine with frie
 nds at Paradise Springs Winery!</b>\n\nJoin us for a relaxing afternoon of
  wine\, small bites\, and socializing with Insight's friends\, board\, and
  staff - old and new! We will be at the winery from 3:00 to 6:00 pm\; stay
  for as little or long as you'd like.\n\nThis event is open to all current
  and potential Friends of Insight members - or anyone who wants to learn m
 ore!\n\nWe have reserved the Stable Room and covered patio in the Red Barn
  for our group at the winery\, so the event can be held rain or shine! Com
 e and enjoy wine and snacks\, while catching up with Insight Friends!\n\n
 \n&nbsp\;\n<strong><a href='https://insightmemory.app.neoncrm.com/eventReg
 .jsp?event=2500&' class='button'>Sign Me Up!</a></strong>
X-WR-RELCALID:a7a9f901c748216cffec1eefacfb5ad2
X-WR-TIMEZONE:America/New_York
BEGIN:VTIMEZONE
TZID:America/New_York
BEGIN:STANDARD
TZNAME:EST
DTSTART:20241103T020000
TZOFFSETFROM:-0400
TZOFFSETTO:-0500
RDATE:20251102T020000
RDATE:20261101T020000
END:STANDARD
BEGIN:DAYLIGHT
TZNAME:EDT
DTSTART:20250309T020000
TZOFFSETFROM:-0500
TZOFFSETTO:-0400
RDATE:20260308T020000
END:DAYLIGHT
END:VTIMEZONE
BEGIN:VEVENT
UID:cc7859d3-83fd-4457-b2f0-1451aee8833f
DTSTAMP:20260422T050213Z
DESCRIPTION:<b>Join the Friends of Insight as we enjoy some wine with frien
 ds at Paradise Springs Winery!</b>\n\nJoin us for a relaxing afternoon of 
 wine\, small bites\, and socializing with Insight's friends\, board\, and 
 staff - old and new! We will be at the winery from 3:00 to 6:00 pm\; stay 
 for as little or long as you'd like.\n\nThis event is open to all current 
 and potential Friends of Insight members - or anyone who wants to learn mo
 re!\n\nWe have reserved the Stable Room and covered patio in the Red Barn 
 for our group at the winery\, so the event can be held rain or shine! Come
  and enjoy wine and snacks\, while catching up with Insight Friends!\n\n\n
 &nbsp\;\n<strong><a href='https://insightmemory.app.neoncrm.com/eventReg.j
 sp?event=2500&' class='button'>Sign Me Up!</a></strong>
DTSTART;TZID=America/New_York:20250514T150000
DTEND;TZID=America/New_York:20250514T180000
LOCATION:Paradise Springs Winery\, 13219 Yates Ford Rd\, Clifton\, VA 20124
  US
SUMMARY:Wine with Friends
END:VEVENT
END:VCALENDAR
