BEGIN:VCALENDAR
VERSION:2.0
PRODID:-//www.insightmcc.org//NONSGML kigkonsult.se iCalcreator 2.30.10//
CALSCALE:GREGORIAN
METHOD:PUBLISH
UID:4cb04090-9734-408a-9efc-60c1d1f90e42
X-WR-CALDESC:Did you know that healthy habits can support brain health\, re
 duce the risk of memory loss\, and help slow the progression of dementia\,
  including Alzheimer’s disease? In fact\, nearly half of all dementia case
 s worldwide could be prevented or delayed by addressing modifiable risk fa
 ctors (Sources: CDC\, The Lancet).\n\nIn celebration of Older Americans Mo
 nth\, join us for Brain Health Bootcamp—a dynamic event packed with inform
 ative presentations\, interactive sessions\, and hands-on activities desig
 ned to empower you with practical strategies for maintaining cognitive hea
 lth.\n\nHighlights include:\n\n    <i> “Better Brain Health as You Age” – 
 a presentation from Insight experts\n\n    A guided Otago Exercise Program
  session to support balance and strength\n\n    Interactive stations for s
 elf-exploration of brain-boosting activities\n\n    Brain-healthy refreshm
 ents </i>\n\n\nPlus\, take advantage of free and confidential Memory Scree
 nings from Insight staff and free vision and hearing screenings offered by
  the Sterling Lions Club onsite!\n\n\n\n\n&nbsp\;\n<strong><a href='https:
 //insightmemory.app.neoncrm.com/eventReg.jsp?event=2505&' target='_blank' 
 class='button' rel='noreferrer noopener'>Sign Me Up!</a></strong>\n
X-WR-RELCALID:b1e747b3173c22e71636b1d58ccbded6
X-WR-TIMEZONE:America/New_York
BEGIN:VTIMEZONE
TZID:America/New_York
BEGIN:STANDARD
TZNAME:EST
DTSTART:20241103T020000
TZOFFSETFROM:-0400
TZOFFSETTO:-0500
RDATE:20251102T020000
RDATE:20261101T020000
END:STANDARD
BEGIN:DAYLIGHT
TZNAME:EDT
DTSTART:20250309T020000
TZOFFSETFROM:-0500
TZOFFSETTO:-0400
RDATE:20260308T020000
END:DAYLIGHT
END:VTIMEZONE
BEGIN:VEVENT
UID:56bf1f42-7edc-4149-b1f5-3985b7838b58
DTSTAMP:20260420T074138Z
DESCRIPTION:Did you know that healthy habits can support brain health\, red
 uce the risk of memory loss\, and help slow the progression of dementia\, 
 including Alzheimer’s disease? In fact\, nearly half of all dementia cases
  worldwide could be prevented or delayed by addressing modifiable risk fac
 tors (Sources: CDC\, The Lancet).\n\nIn celebration of Older Americans Mon
 th\, join us for Brain Health Bootcamp—a dynamic event packed with informa
 tive presentations\, interactive sessions\, and hands-on activities design
 ed to empower you with practical strategies for maintaining cognitive heal
 th.\n\nHighlights include:\n\n    <i> “Better Brain Health as You Age” – a
  presentation from Insight experts\n\n    A guided Otago Exercise Program 
 session to support balance and strength\n\n    Interactive stations for se
 lf-exploration of brain-boosting activities\n\n    Brain-healthy refreshme
 nts </i>\n\n\nPlus\, take advantage of free and confidential Memory Screen
 ings from Insight staff and free vision and hearing screenings offered by 
 the Sterling Lions Club onsite!\n\n\n\n\n&nbsp\;\n<strong><a href='https:/
 /insightmemory.app.neoncrm.com/eventReg.jsp?event=2505&' target='_blank' c
 lass='button' rel='noreferrer noopener'>Sign Me Up!</a></strong>\n
DTSTART;TZID=America/New_York:20250515T130000
DTEND;TZID=America/New_York:20250515T150000
LOCATION:Insight Memory Care Center - Sterling\, 45945 Center Oak Plaza\, S
 uite 190\, Sterling\, VA 20166 US
SUMMARY:Brain Health Bootcamp
END:VEVENT
END:VCALENDAR
