BEGIN:VCALENDAR
VERSION:2.0
PRODID:-//www.insightmcc.org//NONSGML kigkonsult.se iCalcreator 2.30.10//
CALSCALE:GREGORIAN
METHOD:PUBLISH
UID:4561b33e-3046-4355-a9b6-7f30d29b2f28
X-WR-CALDESC:Emotional\, psychological\, and social well-being are all part
  of our mental health. It influences how we think\, feel\, and act\, as we
 ll as how we handle stress\, interact with others\, and make decisions. Jo
 in us to learn about mental health and suicide prevention in older adults.
X-WR-RELCALID:6284c3e96f76eb9b892c4a697577544b
X-WR-TIMEZONE:America/New_York
BEGIN:VTIMEZONE
TZID:America/New_York
BEGIN:STANDARD
TZNAME:EST
DTSTART:20241103T020000
TZOFFSETFROM:-0400
TZOFFSETTO:-0500
RDATE:20251102T020000
RDATE:20261101T020000
END:STANDARD
BEGIN:DAYLIGHT
TZNAME:EDT
DTSTART:20250309T020000
TZOFFSETFROM:-0500
TZOFFSETTO:-0400
RDATE:20260308T020000
END:DAYLIGHT
END:VTIMEZONE
BEGIN:VEVENT
UID:ddda0545-0d09-4649-90ee-cce4f4aae66b
DTSTAMP:20260422T051117Z
DESCRIPTION:Emotional\, psychological\, and social well-being are all part 
 of our mental health. It influences how we think\, feel\, and act\, as wel
 l as how we handle stress\, interact with others\, and make decisions. Joi
 n us to learn about mental health and suicide prevention in older adults.
DTSTART;TZID=America/New_York:20250515T150000
DTEND;TZID=America/New_York:20250515T160000
LOCATION:Great Falls Assisted Living\, 1121 Reston Ave\, Herndon\, VA 20170
  US
SUMMARY:Mental Health and Suicide Prevention in Older Adults
END:VEVENT
END:VCALENDAR
