BEGIN:VCALENDAR
VERSION:2.0
PRODID:-//www.insightmcc.org//NONSGML kigkonsult.se iCalcreator 2.30.10//
CALSCALE:GREGORIAN
METHOD:PUBLISH
UID:32dd1236-2846-4747-8142-95c0108363c2
X-WR-CALDESC:Insight Memory Care Center will offer free\, confidential memo
 ry screenings and educational materials to people with concerns about thei
 r memory or who want to check their memory now for future comparison. \n\n
 Register for a 30 minute time slot between 10:00am-2:00pm by calling 703-9
 70-3601.
X-WR-RELCALID:810ee46b5e194587a699dd7bdc25e8b1
X-WR-TIMEZONE:America/New_York
BEGIN:VTIMEZONE
TZID:America/New_York
BEGIN:STANDARD
TZNAME:EST
DTSTART:20241103T020000
TZOFFSETFROM:-0400
TZOFFSETTO:-0500
RDATE:20251102T020000
RDATE:20261101T020000
END:STANDARD
BEGIN:DAYLIGHT
TZNAME:EDT
DTSTART:20250309T020000
TZOFFSETFROM:-0500
TZOFFSETTO:-0400
RDATE:20260308T020000
END:DAYLIGHT
END:VTIMEZONE
BEGIN:VEVENT
UID:8ecd0e2b-dd93-4903-b20a-98c84881f3eb
DTSTAMP:20260420T073744Z
DESCRIPTION:Insight Memory Care Center will offer free\, confidential memor
 y screenings and educational materials to people with concerns about their
  memory or who want to check their memory now for future comparison. \n\nR
 egister for a 30 minute time slot between 10:00am-2:00pm by calling 703-97
 0-3601.
DTSTART;TZID=America/New_York:20250519T090000
DTEND;TZID=America/New_York:20250519T140000
LOCATION:Wellness Center for Older Adults (WCOA)\, 4027B Olley Lane\, Fairf
 ax \, VA 22032 US
SUMMARY:Memory Screenings at WCOA
END:VEVENT
END:VCALENDAR
