BEGIN:VCALENDAR
VERSION:2.0
PRODID:-//www.insightmcc.org//NONSGML kigkonsult.se iCalcreator 2.30.10//
CALSCALE:GREGORIAN
METHOD:PUBLISH
UID:4e582afd-af6a-4dfd-99e6-d9ec8498a8d1
X-WR-CALDESC:Join us for a master gardener docent-led tour of the demonstra
 tion gardens\, including an overview of the history and mission of Green S
 pring Gardens. Their knowledgeable\, highly-trained docents will interpret
  the beautiful themed gardens\, the plant collections\, the site’s mission
 \, and its historic legacy. After the tour we'll enjoy a delicious lunch i
 n the classroom. \n\nMeet Me: Community Outings are free\, and give famili
 es living with mild cognitive impairment (MCI) or early stage memory loss 
 an opportunity to connect and stay engaged in the community\, in a safe an
 d supportive way. Outings are designed for both the diagnosed individual a
 nd a care partner or friend to participate together\, and meet new friends
  in the process!\n\n\n&nbsp\;\n<strong><a href='https://insightmemory.app.
 neoncrm.com/eventReg.jsp?event=2284&' target='_blank' class='button' rel='
 noreferrer noopener'>Sign Me Up!</a></strong>\n\n
X-WR-RELCALID:2ec4e0ebb365a5eb2ce6188714b917b7
X-WR-TIMEZONE:America/New_York
BEGIN:VTIMEZONE
TZID:America/New_York
BEGIN:STANDARD
TZNAME:EST
DTSTART:20241103T020000
TZOFFSETFROM:-0400
TZOFFSETTO:-0500
RDATE:20251102T020000
RDATE:20261101T020000
END:STANDARD
BEGIN:DAYLIGHT
TZNAME:EDT
DTSTART:20250309T020000
TZOFFSETFROM:-0500
TZOFFSETTO:-0400
RDATE:20260308T020000
END:DAYLIGHT
END:VTIMEZONE
BEGIN:VEVENT
UID:43dcc0b5-b8b0-4e34-9d16-42103035141e
DTSTAMP:20260422T050431Z
DESCRIPTION:Join us for a master gardener docent-led tour of the demonstrat
 ion gardens\, including an overview of the history and mission of Green Sp
 ring Gardens. Their knowledgeable\, highly-trained docents will interpret 
 the beautiful themed gardens\, the plant collections\, the site’s mission\
 , and its historic legacy. After the tour we'll enjoy a delicious lunch in
  the classroom. \n\nMeet Me: Community Outings are free\, and give familie
 s living with mild cognitive impairment (MCI) or early stage memory loss a
 n opportunity to connect and stay engaged in the community\, in a safe and
  supportive way. Outings are designed for both the diagnosed individual an
 d a care partner or friend to participate together\, and meet new friends 
 in the process!\n\n\n&nbsp\;\n<strong><a href='https://insightmemory.app.n
 eoncrm.com/eventReg.jsp?event=2284&' target='_blank' class='button' rel='n
 oreferrer noopener'>Sign Me Up!</a></strong>\n\n
DTSTART;TZID=America/New_York:20250519T110000
DTEND;TZID=America/New_York:20250519T133000
LOCATION:Green Spring Gardens\, 4603 Green Spring Rd\, Alexandria\, VA 2231
 2 US
SUMMARY:Meet Me: At Green Spring Gardens
END:VEVENT
END:VCALENDAR
