BEGIN:VCALENDAR
VERSION:2.0
PRODID:-//www.insightmcc.org//NONSGML kigkonsult.se iCalcreator 2.30.10//
CALSCALE:GREGORIAN
METHOD:PUBLISH
UID:d5a9f5a5-b06d-4147-a313-a21ac3ceab86
X-WR-CALDESC:The Virginia Department of Veterans Services (DVS) connects Vi
 rginia’s veterans and their families to federal and state benefits\, suppo
 rt\, quality care\, and recognition they have earned.\n\nThe Virginia DVS 
 will join us for a virtual live discussion about the services they provide
  for older adults. Get your questions answered and learn more about resour
 ces available.\n\nZoom link provided upon registration.\n\n<b> **Please no
 te that this session cannot be recorded\, so plan to attend at the schedul
 ed time.**</b>\n\n\n&nbsp\;\n<strong><a href='https://insightmemory.app.ne
 oncrm.com/eventReg.jsp?event=2163&' target='_blank' class='button' rel='no
 referrer noopener'>Sign Me Up!</a></strong>\n\n
X-WR-RELCALID:a8ba5a4f721616d6d1445f4bd58bec56
X-WR-TIMEZONE:America/New_York
BEGIN:VTIMEZONE
TZID:America/New_York
BEGIN:STANDARD
TZNAME:EST
DTSTART:20241103T020000
TZOFFSETFROM:-0400
TZOFFSETTO:-0500
RDATE:20251102T020000
RDATE:20261101T020000
END:STANDARD
BEGIN:DAYLIGHT
TZNAME:EDT
DTSTART:20250309T020000
TZOFFSETFROM:-0500
TZOFFSETTO:-0400
RDATE:20260308T020000
END:DAYLIGHT
END:VTIMEZONE
BEGIN:VEVENT
UID:ea399c21-981e-46f3-acba-5f9fe21812d0
DTSTAMP:20260422T050652Z
DESCRIPTION:The Virginia Department of Veterans Services (DVS) connects Vir
 ginia’s veterans and their families to federal and state benefits\, suppor
 t\, quality care\, and recognition they have earned.\n\nThe Virginia DVS w
 ill join us for a virtual live discussion about the services they provide 
 for older adults. Get your questions answered and learn more about resourc
 es available.\n\nZoom link provided upon registration.\n\n<b> **Please not
 e that this session cannot be recorded\, so plan to attend at the schedule
 d time.**</b>\n\n\n&nbsp\;\n<strong><a href='https://insightmemory.app.neo
 ncrm.com/eventReg.jsp?event=2163&' target='_blank' class='button' rel='nor
 eferrer noopener'>Sign Me Up!</a></strong>\n\n
DTSTART;TZID=America/New_York:20250521T190000
DTEND;TZID=America/New_York:20250521T203000
LOCATION:Virtual! Zoom link provided upon registration.
SUMMARY:Services for Older Adults from Virginia Veterans Services - Virtual
  Discussion
END:VEVENT
END:VCALENDAR
