BEGIN:VCALENDAR
VERSION:2.0
PRODID:-//www.insightmcc.org//NONSGML kigkonsult.se iCalcreator 2.30.10//
CALSCALE:GREGORIAN
METHOD:PUBLISH
UID:a81eed86-5910-4ae2-b007-50f2c4c7191c
X-WR-CALDESC:This virtual discussion offers an in-depth exploration of Fron
 totemporal Dementia (FTD)\, with a focus on the latest research studies an
 d developments in the field. Participants will gain a foundational underst
 anding of the clinical features\, diagnosis\, and progression of FTD\, whi
 le also engaging with up-to-date findings from current research. Attendees
  will have the opportunity to ask questions and discuss ongoing clinical t
 rials\, emerging therapies\, and the future direction of FTD research.\n\n
 \n<b> Presenter </b>\n<i> Shana Dodge\, PhD\, AFTD </i>\n\nShana Dodge\, P
 hD is the Director of Research Engagement at the Association for Frontotem
 poral Degeneration (AFTD). A licensed clinical psychologist\, she holds a 
 PhD from the University of Hawaii\, an MA in Psychology from the New Schoo
 l\, and a BA in Psychology from George Washington University. Shana works 
 to ensure clinical researchers and regulatory bodies understand the needs\
 , priorities\, and values of people directly impacted by FTD\, and that pe
 ople with FTD and their loved ones are able to make informed decisions abo
 ut research participation.\n\n&nbsp\;\n<strong><a href='https://insightmem
 ory.app.neoncrm.com/eventReg.jsp?event=2515&' class='button'>Sign Me Up!</
 a></strong>
X-WR-RELCALID:14539220420ad07d616999e2945cc110
X-WR-TIMEZONE:America/New_York
BEGIN:VTIMEZONE
TZID:America/New_York
BEGIN:STANDARD
TZNAME:EST
DTSTART:20241103T020000
TZOFFSETFROM:-0400
TZOFFSETTO:-0500
RDATE:20251102T020000
RDATE:20261101T020000
END:STANDARD
BEGIN:DAYLIGHT
TZNAME:EDT
DTSTART:20250309T020000
TZOFFSETFROM:-0500
TZOFFSETTO:-0400
RDATE:20260308T020000
END:DAYLIGHT
END:VTIMEZONE
BEGIN:VEVENT
UID:dace8e86-15d2-49ba-af39-922bc5ec4fbe
DTSTAMP:20260420T111050Z
DESCRIPTION:This virtual discussion offers an in-depth exploration of Front
 otemporal Dementia (FTD)\, with a focus on the latest research studies and
  developments in the field. Participants will gain a foundational understa
 nding of the clinical features\, diagnosis\, and progression of FTD\, whil
 e also engaging with up-to-date findings from current research. Attendees 
 will have the opportunity to ask questions and discuss ongoing clinical tr
 ials\, emerging therapies\, and the future direction of FTD research.\n\n
 \n<b> Presenter </b>\n<i> Shana Dodge\, PhD\, AFTD </i>\n\nShana Dodge\, P
 hD is the Director of Research Engagement at the Association for Frontotem
 poral Degeneration (AFTD). A licensed clinical psychologist\, she holds a 
 PhD from the University of Hawaii\, an MA in Psychology from the New Schoo
 l\, and a BA in Psychology from George Washington University. Shana works 
 to ensure clinical researchers and regulatory bodies understand the needs\
 , priorities\, and values of people directly impacted by FTD\, and that pe
 ople with FTD and their loved ones are able to make informed decisions abo
 ut research participation.\n\n&nbsp\;\n<strong><a href='https://insightmem
 ory.app.neoncrm.com/eventReg.jsp?event=2515&' class='button'>Sign Me Up!</
 a></strong>
DTSTART;TZID=America/New_York:20250522T190000
DTEND;TZID=America/New_York:20250522T210000
LOCATION:Virtual! Zoom link provided upon registration.
SUMMARY:FTD and Current Research Studies - Virtual Presentation
END:VEVENT
END:VCALENDAR
