BEGIN:VCALENDAR
VERSION:2.0
PRODID:-//www.insightmcc.org//NONSGML kigkonsult.se iCalcreator 2.30.10//
CALSCALE:GREGORIAN
METHOD:PUBLISH
UID:489a0b70-e591-4152-a94b-67fbb577de1d
X-WR-CALDESC:Join the four families of Loudoun's LGBTQ+ serving organizatio
 ns for a casual social hour with games\, snacks\, and great conversations!
  Get to know the folks from Equality Loudoun\, Dulles Triangles\, PFLAG Lo
 udoun\, and Loudoun Pride in a relaxed and accepting space.\n\nThe transfo
 rmative relationships formed at the social hour can alleviate social isola
 tion and its consequences.
X-WR-RELCALID:76facefadd8f4895627ffa99f3439ad5
X-WR-TIMEZONE:America/New_York
BEGIN:VTIMEZONE
TZID:America/New_York
BEGIN:STANDARD
TZNAME:EST
DTSTART:20241103T020000
TZOFFSETFROM:-0400
TZOFFSETTO:-0500
RDATE:20251102T020000
RDATE:20261101T020000
END:STANDARD
BEGIN:DAYLIGHT
TZNAME:EDT
DTSTART:20250309T020000
TZOFFSETFROM:-0500
TZOFFSETTO:-0400
RDATE:20260308T020000
END:DAYLIGHT
END:VTIMEZONE
BEGIN:VEVENT
UID:8d8fd882-a562-44b6-8217-402d0fa5041f
DTSTAMP:20260422T051041Z
DESCRIPTION:Join the four families of Loudoun's LGBTQ+ serving organization
 s for a casual social hour with games\, snacks\, and great conversations! 
 Get to know the folks from Equality Loudoun\, Dulles Triangles\, PFLAG Lou
 doun\, and Loudoun Pride in a relaxed and accepting space.\n\nThe transfor
 mative relationships formed at the social hour can alleviate social isolat
 ion and its consequences.
DTSTART;TZID=America/New_York:20250523T180000
DTEND;TZID=America/New_York:20250523T200000
LOCATION:Insight Memory Care Center - Sterling\, 45945 Center Oak Plaza\, S
 uite 190 \, Sterling\, VA 20166 US
SUMMARY:Loudoun's LGBTQ+ Social Hour
END:VEVENT
END:VCALENDAR
