BEGIN:VCALENDAR
VERSION:2.0
PRODID:-//www.insightmcc.org//NONSGML kigkonsult.se iCalcreator 2.30.10//
CALSCALE:GREGORIAN
METHOD:PUBLISH
UID:84057729-1a71-4ba7-912e-460cded9aa16
X-WR-CALDESC:Insight will be closed for Memorial Day. Enjoy your holiday!
X-WR-RELCALID:2781f99d2b0b978a93509e3c4107438e
X-WR-TIMEZONE:America/New_York
BEGIN:VTIMEZONE
TZID:America/New_York
BEGIN:STANDARD
TZNAME:EST
DTSTART:20241103T020000
TZOFFSETFROM:-0400
TZOFFSETTO:-0500
RDATE:20251102T020000
RDATE:20261101T020000
END:STANDARD
BEGIN:DAYLIGHT
TZNAME:EDT
DTSTART:20250309T020000
TZOFFSETFROM:-0500
TZOFFSETTO:-0400
RDATE:20260308T020000
END:DAYLIGHT
END:VTIMEZONE
BEGIN:VEVENT
UID:b4ab4fae-bd1c-43f5-a55e-27168b27ff54
DTSTAMP:20260422T050042Z
DESCRIPTION:Insight will be closed for Memorial Day. Enjoy your holiday!
DTSTART;TZID=America/New_York:20250526T060000
DTEND;TZID=America/New_York:20250526T060001
LOCATION:
SUMMARY:Insight Closed
END:VEVENT
END:VCALENDAR
