BEGIN:VCALENDAR
VERSION:2.0
PRODID:-//www.insightmcc.org//NONSGML kigkonsult.se iCalcreator 2.30.10//
CALSCALE:GREGORIAN
METHOD:PUBLISH
UID:e52468db-b127-4522-ba7b-0c81096c7a4d
X-WR-CALDESC:Representatives from the Veterans Health Administration at the
  Washington DC VA Medical Center will join us for a virtual live discussio
 n about the services they provide in regards to Geriatrics and Extended Ca
 re and Caregiver Support. Get your questions answered and learn more about
  resources available. \n\n\nZoom link provided upon registration.\n\n\n<b>
 **Please note that this session cannot be recorded\, so plan to attend at 
 the scheduled time.**</b>\n\n\n&nbsp\;\n<strong><a href='https://insightme
 mory.app.neoncrm.com/eventReg.jsp?event=2168&' target='_blank' class='butt
 on' rel='noreferrer noopener'>Sign Me Up!</a></strong>\n
X-WR-RELCALID:224c876032129f81c0841224084f3a3a
X-WR-TIMEZONE:America/New_York
BEGIN:VTIMEZONE
TZID:America/New_York
BEGIN:STANDARD
TZNAME:EST
DTSTART:20241103T020000
TZOFFSETFROM:-0400
TZOFFSETTO:-0500
RDATE:20251102T020000
RDATE:20261101T020000
END:STANDARD
BEGIN:DAYLIGHT
TZNAME:EDT
DTSTART:20250309T020000
TZOFFSETFROM:-0500
TZOFFSETTO:-0400
RDATE:20260308T020000
END:DAYLIGHT
END:VTIMEZONE
BEGIN:VEVENT
UID:b72d1f72-49b2-4b62-a985-7dc694593f90
DTSTAMP:20260422T050732Z
DESCRIPTION:Representatives from the Veterans Health Administration at the 
 Washington DC VA Medical Center will join us for a virtual live discussion
  about the services they provide in regards to Geriatrics and Extended Car
 e and Caregiver Support. Get your questions answered and learn more about 
 resources available. \n\n\nZoom link provided upon registration.\n\n\n<b>*
 *Please note that this session cannot be recorded\, so plan to attend at t
 he scheduled time.**</b>\n\n\n&nbsp\;\n<strong><a href='https://insightmem
 ory.app.neoncrm.com/eventReg.jsp?event=2168&' target='_blank' class='butto
 n' rel='noreferrer noopener'>Sign Me Up!</a></strong>\n
DTSTART;TZID=America/New_York:20250528T190000
DTEND;TZID=America/New_York:20250528T203000
LOCATION:Virtual! Zoom link provided upon registration.
SUMMARY:Veterans Health Administration Geriatrics and Caregiver Support - V
 irtual Discussion
END:VEVENT
END:VCALENDAR
