BEGIN:VCALENDAR
VERSION:2.0
PRODID:-//www.insightmcc.org//NONSGML kigkonsult.se iCalcreator 2.30.10//
CALSCALE:GREGORIAN
METHOD:PUBLISH
UID:9e723e5b-83a6-4362-ba49-6b958f4462e1
X-WR-CALDESC:Insight Memory Care Center will offer free\, confidential memo
 ry screenings and educational materials to people with concerns about thei
 r memory or who want to check their memory now for future comparison. \n\n
 Register for a 30 minute time slot between 10:00am-2:00pm.\n\n&nbsp\;\n<st
 rong><a href='https://insightmemory.app.neoncrm.com/eventReg.jsp?event=262
 0&' target='_blank' class='button' rel='noreferrer noopener'>Sign Me Up!</
 a></strong>\n\n\n
X-WR-RELCALID:6b28de89ad5bf5b1fa28233a70ccb3d9
X-WR-TIMEZONE:America/New_York
BEGIN:VTIMEZONE
TZID:America/New_York
BEGIN:STANDARD
TZNAME:EST
DTSTART:20241103T020000
TZOFFSETFROM:-0400
TZOFFSETTO:-0500
RDATE:20251102T020000
RDATE:20261101T020000
END:STANDARD
BEGIN:DAYLIGHT
TZNAME:EDT
DTSTART:20250309T020000
TZOFFSETFROM:-0500
TZOFFSETTO:-0400
RDATE:20260308T020000
END:DAYLIGHT
END:VTIMEZONE
BEGIN:VEVENT
UID:82a5628a-dc8c-4b1b-9f6c-5c6a7b0a4b2e
DTSTAMP:20260420T175802Z
DESCRIPTION:Insight Memory Care Center will offer free\, confidential memor
 y screenings and educational materials to people with concerns about their
  memory or who want to check their memory now for future comparison. \n\nR
 egister for a 30 minute time slot between 10:00am-2:00pm.\n\n&nbsp\;\n<str
 ong><a href='https://insightmemory.app.neoncrm.com/eventReg.jsp?event=2620
 &' target='_blank' class='button' rel='noreferrer noopener'>Sign Me Up!</a
 ></strong>\n\n\n
DTSTART;TZID=America/New_York:20250602T100000
DTEND;TZID=America/New_York:20250602T140000
LOCATION:Vienna Community Center\, 120 Cherry St. SE \, Vienna\, VA 22180 U
 S
SUMMARY:Memory Screenings at Vienna Community Center
END:VEVENT
END:VCALENDAR
