BEGIN:VCALENDAR
VERSION:2.0
PRODID:-//www.insightmcc.org//NONSGML kigkonsult.se iCalcreator 2.30.10//
CALSCALE:GREGORIAN
METHOD:PUBLISH
UID:800f4cdf-388d-401b-bae0-e4ab78330ff6
X-WR-CALDESC:Painting is a wonderful opportunity for self-expression and co
 nnection. We'll each select a piece of ceramic from the area's largest sel
 ection of unfinished bisque and paint it. It's fun and easy\, so join us! 
 \n\nMeet Me: Community Outings are free\, and give families living with mi
 ld cognitive impairment (MCI) or early stage memory loss an opportunity to
  connect and stay engaged in the community\, in a safe and supportive way.
  Outings are designed for both the diagnosed individual and a care partner
  or friend to participate together\, and meet new friends in the process!
 \n\n\n&nbsp\;\n<strong><a href='https://insightmemory.app.neoncrm.com/even
 tReg.jsp?event=2289&' target='_blank' class='button' rel='noreferrer noope
 ner'>Sign Me Up!</a></strong>\n\n
X-WR-RELCALID:ee68d0d8a4989c5360fe993d44a104e0
X-WR-TIMEZONE:America/New_York
BEGIN:VTIMEZONE
TZID:America/New_York
BEGIN:STANDARD
TZNAME:EST
DTSTART:20241103T020000
TZOFFSETFROM:-0400
TZOFFSETTO:-0500
RDATE:20251102T020000
RDATE:20261101T020000
END:STANDARD
BEGIN:DAYLIGHT
TZNAME:EDT
DTSTART:20250309T020000
TZOFFSETFROM:-0500
TZOFFSETTO:-0400
RDATE:20260308T020000
END:DAYLIGHT
END:VTIMEZONE
BEGIN:VEVENT
UID:51674b41-cd1e-4559-999e-d11020f62708
DTSTAMP:20260422T063144Z
DESCRIPTION:Painting is a wonderful opportunity for self-expression and con
 nection. We'll each select a piece of ceramic from the area's largest sele
 ction of unfinished bisque and paint it. It's fun and easy\, so join us! 
 \n\nMeet Me: Community Outings are free\, and give families living with mi
 ld cognitive impairment (MCI) or early stage memory loss an opportunity to
  connect and stay engaged in the community\, in a safe and supportive way.
  Outings are designed for both the diagnosed individual and a care partner
  or friend to participate together\, and meet new friends in the process!
 \n\n\n&nbsp\;\n<strong><a href='https://insightmemory.app.neoncrm.com/even
 tReg.jsp?event=2289&' target='_blank' class='button' rel='noreferrer noope
 ner'>Sign Me Up!</a></strong>\n\n
DTSTART;TZID=America/New_York:20250605T110000
DTEND;TZID=America/New_York:20250605T123000
LOCATION:Clay Cafe - Chantilly\,  14511 # G Lee Jackson Memorial Highway\, 
 Chantilly\, VA 20151 US
SUMMARY:Meet Me: At Clay Cafe Chantilly
END:VEVENT
END:VCALENDAR
