BEGIN:VCALENDAR
VERSION:2.0
PRODID:-//www.insightmcc.org//NONSGML kigkonsult.se iCalcreator 2.30.10//
CALSCALE:GREGORIAN
METHOD:PUBLISH
UID:5d2bf49f-7c0a-4efd-9f30-6d087451013f
X-WR-CALDESC:A discussion on changes that occur with age\, warning signs of
  a memory problem\, and what to do if someone you love is experiencing sym
 ptoms.\n\nThis event is presented by the Insight Memory Care Center Educat
 ion team at The Kensington Falls Church.\n
X-WR-RELCALID:6ef444482318ff5a0ffff8154c968bf3
X-WR-TIMEZONE:America/New_York
BEGIN:VTIMEZONE
TZID:America/New_York
BEGIN:STANDARD
TZNAME:EST
DTSTART:20241103T020000
TZOFFSETFROM:-0400
TZOFFSETTO:-0500
RDATE:20251102T020000
RDATE:20261101T020000
END:STANDARD
BEGIN:DAYLIGHT
TZNAME:EDT
DTSTART:20250309T020000
TZOFFSETFROM:-0500
TZOFFSETTO:-0400
RDATE:20260308T020000
END:DAYLIGHT
END:VTIMEZONE
BEGIN:VEVENT
UID:35bda168-f42f-4189-8a1d-477851620af2
DTSTAMP:20260422T062547Z
DESCRIPTION:A discussion on changes that occur with age\, warning signs of 
 a memory problem\, and what to do if someone you love is experiencing symp
 toms.\n\nThis event is presented by the Insight Memory Care Center Educati
 on team at The Kensington Falls Church.\n
DTSTART;TZID=America/New_York:20250605T180000
DTEND;TZID=America/New_York:20250605T190000
LOCATION:The Kensington Falls Church\, 700 W Broad St\, Falls Church\, VA 2
 2046 US
SUMMARY:Normal Aging vs. Dementia
END:VEVENT
END:VCALENDAR
