BEGIN:VCALENDAR
VERSION:2.0
PRODID:-//www.insightmcc.org//NONSGML kigkonsult.se iCalcreator 2.30.10//
CALSCALE:GREGORIAN
METHOD:PUBLISH
UID:80c0f0a9-d026-4c6d-8637-83f8005227a9
X-WR-CALDESC:All are welcome to attend this support group for family and fr
 iends of those with dementia and other memory impairments. This group allo
 ws care partners to problem-solve\, discuss issues\, and connect with each
  other regarding dementia in every-day life. This group will also include 
 practical resources and guest speakers throughout the year.\n\nThis group 
 is facilitated by Insight staff and meets at Spring Arbor of Leesburg on t
 he second Tuesday of the month. All support groups are free and open to th
 e public.\n\nPlease reach out to the event contact listed below to RSVP!
X-WR-RELCALID:6d306dad4e81e223f76b3eb2ebdd6b4c
X-WR-TIMEZONE:America/New_York
BEGIN:VTIMEZONE
TZID:America/New_York
BEGIN:STANDARD
TZNAME:EST
DTSTART:20241103T020000
TZOFFSETFROM:-0400
TZOFFSETTO:-0500
RDATE:20251102T020000
RDATE:20261101T020000
END:STANDARD
BEGIN:DAYLIGHT
TZNAME:EDT
DTSTART:20250309T020000
TZOFFSETFROM:-0500
TZOFFSETTO:-0400
RDATE:20260308T020000
END:DAYLIGHT
END:VTIMEZONE
BEGIN:VEVENT
UID:7b920912-47e5-437d-a7d9-8cadb15f8467
DTSTAMP:20260422T064537Z
DESCRIPTION:All are welcome to attend this support group for family and fri
 ends of those with dementia and other memory impairments. This group allow
 s care partners to problem-solve\, discuss issues\, and connect with each 
 other regarding dementia in every-day life. This group will also include p
 ractical resources and guest speakers throughout the year.\n\nThis group i
 s facilitated by Insight staff and meets at Spring Arbor of Leesburg on th
 e second Tuesday of the month. All support groups are free and open to the
  public.\n\nPlease reach out to the event contact listed below to RSVP!
DTSTART;TZID=America/New_York:20250610T180000
DTEND;TZID=America/New_York:20250610T190000
LOCATION:Spring Arbor of Leesburg\, 237 Fairview St NW\, Leesburg\, VA 2017
 6 US
SUMMARY:Dementia Care Partner Support Group - Spring Arbor of Leesburg
END:VEVENT
END:VCALENDAR
