BEGIN:VCALENDAR
VERSION:2.0
PRODID:-//www.insightmcc.org//NONSGML kigkonsult.se iCalcreator 2.30.10//
CALSCALE:GREGORIAN
METHOD:PUBLISH
UID:b47b5dc6-e8f1-4618-a98f-ce0cf75cd4a7
X-WR-CALDESC:Meet Me: Community Outings are free\, and give families living
  with mild cognitive impairment (MCI) or early stage memory loss an opport
 unity to connect and stay engaged in the community\, in a safe and support
 ive way. Outings are designed for both the diagnosed individual and a care
  partner or friend to participate together\, and meet new friends in the p
 rocess!\n\nJoin us for summertime games\, dinner\, and guitar music in the
  park!\n\n&nbsp\;\n<strong><a href='https://insightmemory.app.neoncrm.com/
 eventReg.jsp?event=2399&' target='_blank' class='button' rel='noreferrer n
 oopener'>Sign Me Up!</a></strong>\n\n
X-WR-RELCALID:8926e1737c43e09c5f3d61f90be77ff6
X-WR-TIMEZONE:America/New_York
BEGIN:VTIMEZONE
TZID:America/New_York
BEGIN:STANDARD
TZNAME:EST
DTSTART:20241103T020000
TZOFFSETFROM:-0400
TZOFFSETTO:-0500
RDATE:20251102T020000
RDATE:20261101T020000
END:STANDARD
BEGIN:DAYLIGHT
TZNAME:EDT
DTSTART:20250309T020000
TZOFFSETFROM:-0500
TZOFFSETTO:-0400
RDATE:20260308T020000
END:DAYLIGHT
END:VTIMEZONE
BEGIN:VEVENT
UID:e4629c50-8f7f-4545-8a74-b93525189277
DTSTAMP:20260422T064005Z
DESCRIPTION:Meet Me: Community Outings are free\, and give families living 
 with mild cognitive impairment (MCI) or early stage memory loss an opportu
 nity to connect and stay engaged in the community\, in a safe and supporti
 ve way. Outings are designed for both the diagnosed individual and a care 
 partner or friend to participate together\, and meet new friends in the pr
 ocess!\n\nJoin us for summertime games\, dinner\, and guitar music in the 
 park!\n\n&nbsp\;\n<strong><a href='https://insightmemory.app.neoncrm.com/e
 ventReg.jsp?event=2399&' target='_blank' class='button' rel='noreferrer no
 opener'>Sign Me Up!</a></strong>\n\n
DTSTART;TZID=America/New_York:20250610T160000
DTEND;TZID=America/New_York:20250610T180000
LOCATION:Van Dyck Park (Upper Pavilion)\, 3720 Blenheim Blvd.\, Fairfax\, V
 A 22030 US
SUMMARY:Meet Me: At Van Dyck Park
END:VEVENT
END:VCALENDAR
