BEGIN:VCALENDAR
VERSION:2.0
PRODID:-//www.insightmcc.org//NONSGML kigkonsult.se iCalcreator 2.30.10//
CALSCALE:GREGORIAN
METHOD:PUBLISH
UID:15ec3032-06b9-4a8e-8a13-624063f21b40
X-WR-CALDESC:The financial burden of long-term care and caregiving can be s
 ubstantial. Discover various options available to help manage the costs as
 sociated with this critical aspect of caregiving.\n\nPlease register and y
 ou will receive Zoom information prior to the class.\n\n<b> Presenter </b>
 \n<i>Arvette M. Reid\, Client Services Director\, SEIA </i>\nArvette has w
 orked as a Sales and Marketing professional for more than 20 years. She sp
 ent over fifteen years in the Senior Housing and Healthcare industry\, whe
 re her tenure spanned the range of Independent Living\, Assisted Living\, 
 Nursing Care\, Dementia and Hospice Services. This spectrum of experiences
  now uniquely informs her current role as Client Services Director with SE
 IA\, a Forbes 100 wealth management firm\, where she is working for the Th
 omas West practice and breaking new ground with the Lifecare Affordability
  Plan®\, a pioneer service that bridges the gap between senior healthcare 
 services and financial planning. Arvette brings the financial and healthca
 re worlds together\, making a powerful impact in serving families holistic
 ally.\n\n\n \n&nbsp\;\n<strong><a href='https://insightmemory.app.neoncrm.
 com/eventReg.jsp?event=2404&' target='_blank' class='button' rel='noreferr
 er noopener'>Sign Me Up!</a></strong>
X-WR-RELCALID:4819f4b5bb65a7c834c0a9a573700bd3
X-WR-TIMEZONE:America/New_York
BEGIN:VTIMEZONE
TZID:America/New_York
BEGIN:STANDARD
TZNAME:EST
DTSTART:20241103T020000
TZOFFSETFROM:-0400
TZOFFSETTO:-0500
RDATE:20251102T020000
RDATE:20261101T020000
END:STANDARD
BEGIN:DAYLIGHT
TZNAME:EDT
DTSTART:20250309T020000
TZOFFSETFROM:-0500
TZOFFSETTO:-0400
RDATE:20260308T020000
END:DAYLIGHT
END:VTIMEZONE
BEGIN:VEVENT
UID:0a84545d-3d40-4919-a753-90c08b224065
DTSTAMP:20260422T062924Z
DESCRIPTION:The financial burden of long-term care and caregiving can be su
 bstantial. Discover various options available to help manage the costs ass
 ociated with this critical aspect of caregiving.\n\nPlease register and yo
 u will receive Zoom information prior to the class.\n\n<b> Presenter </b>
 \n<i>Arvette M. Reid\, Client Services Director\, SEIA </i>\nArvette has w
 orked as a Sales and Marketing professional for more than 20 years. She sp
 ent over fifteen years in the Senior Housing and Healthcare industry\, whe
 re her tenure spanned the range of Independent Living\, Assisted Living\, 
 Nursing Care\, Dementia and Hospice Services. This spectrum of experiences
  now uniquely informs her current role as Client Services Director with SE
 IA\, a Forbes 100 wealth management firm\, where she is working for the Th
 omas West practice and breaking new ground with the Lifecare Affordability
  Plan®\, a pioneer service that bridges the gap between senior healthcare 
 services and financial planning. Arvette brings the financial and healthca
 re worlds together\, making a powerful impact in serving families holistic
 ally.\n\n\n \n&nbsp\;\n<strong><a href='https://insightmemory.app.neoncrm.
 com/eventReg.jsp?event=2404&' target='_blank' class='button' rel='noreferr
 er noopener'>Sign Me Up!</a></strong>
DTSTART;TZID=America/New_York:20250611T190000
DTEND;TZID=America/New_York:20250611T200000
LOCATION:Virtual! Zoom link provided upon registration.
SUMMARY:How Will We Pay for Care: Financial Considerations - Virtual Presen
 tation
END:VEVENT
END:VCALENDAR
