BEGIN:VCALENDAR
VERSION:2.0
PRODID:-//www.insightmcc.org//NONSGML kigkonsult.se iCalcreator 2.30.10//
CALSCALE:GREGORIAN
METHOD:PUBLISH
UID:7539ade7-13a9-4b67-8d8b-c80030fecdbe
X-WR-CALDESC:It can be quite a shock - or a sense of relief! - after diagno
 sis. Start to plan ahead while also adjusting to life with someone who has
  dementia.\n\nThis virtual presentation is hosted by DFA of Northern Princ
 e George's County and presented by Insight. Please contact the event conta
 ct below to register and receive the virtual link.\n \n
X-WR-RELCALID:1afd7c7f44f3744af746f0694e569e8e
X-WR-TIMEZONE:America/New_York
BEGIN:VTIMEZONE
TZID:America/New_York
BEGIN:STANDARD
TZNAME:EST
DTSTART:20241103T020000
TZOFFSETFROM:-0400
TZOFFSETTO:-0500
RDATE:20251102T020000
RDATE:20261101T020000
END:STANDARD
BEGIN:DAYLIGHT
TZNAME:EDT
DTSTART:20250309T020000
TZOFFSETFROM:-0500
TZOFFSETTO:-0400
RDATE:20260308T020000
END:DAYLIGHT
END:VTIMEZONE
BEGIN:VEVENT
UID:d84b803e-32a0-4ed8-b6bb-645d5593faec
DTSTAMP:20260422T063658Z
DESCRIPTION:It can be quite a shock - or a sense of relief! - after diagnos
 is. Start to plan ahead while also adjusting to life with someone who has 
 dementia.\n\nThis virtual presentation is hosted by DFA of Northern Prince
  George's County and presented by Insight. Please contact the event contac
 t below to register and receive the virtual link.\n \n
DTSTART;TZID=America/New_York:20250612T190000
DTEND;TZID=America/New_York:20250612T200000
LOCATION:Virtual
SUMMARY:Diagnosis Dementia: Now What?
END:VEVENT
END:VCALENDAR
