BEGIN:VCALENDAR
VERSION:2.0
PRODID:-//www.insightmcc.org//NONSGML kigkonsult.se iCalcreator 2.30.10//
CALSCALE:GREGORIAN
METHOD:PUBLISH
UID:914303c6-6479-4277-a981-fb3b27860c08
X-WR-CALDESC:Insight Memory Care Center will offer free\, confidential memo
 ry screenings and educational materials to people with concerns about thei
 r memory or who want to check their memory now for future comparison. \n\n
 Register for a 30 minute time slot between 9:00am-12:00pm by calling 703-2
 28-7790.
X-WR-RELCALID:251b43f19c1e2295c08bc5cdf6a4554c
X-WR-TIMEZONE:America/New_York
BEGIN:VTIMEZONE
TZID:America/New_York
BEGIN:STANDARD
TZNAME:EST
DTSTART:20241103T020000
TZOFFSETFROM:-0400
TZOFFSETTO:-0500
RDATE:20251102T020000
RDATE:20261101T020000
END:STANDARD
BEGIN:DAYLIGHT
TZNAME:EDT
DTSTART:20250309T020000
TZOFFSETFROM:-0500
TZOFFSETTO:-0400
RDATE:20260308T020000
END:DAYLIGHT
END:VTIMEZONE
BEGIN:VEVENT
UID:d1c1f681-c21c-43bb-980a-62d16f4a11aa
DTSTAMP:20260422T061729Z
DESCRIPTION:Insight Memory Care Center will offer free\, confidential memor
 y screenings and educational materials to people with concerns about their
  memory or who want to check their memory now for future comparison. \n\nR
 egister for a 30 minute time slot between 9:00am-12:00pm by calling 703-22
 8-7790.
DTSTART;TZID=America/New_York:20250617T090000
DTEND;TZID=America/New_York:20250617T120000
LOCATION:Arlington Mill Senior Center\, 909 S. Dinwiddie St\, Arlington\, V
 A 22204 US
SUMMARY:Memory Screenings at Arlington Mill
END:VEVENT
END:VCALENDAR
